BEGIN:VCALENDAR
VERSION:2.0
PRODID:-//Events | FID-Recht//NONSGML Events//EN
CALSCALE:GREGORIAN
X-ORIGINAL-URL:https://events.intrecht.de/termine/
X-WR-CALDESC:Events | FID-Recht - Events
BEGIN:VEVENT
UID:20201001T0001Z-1601510461.1588-EO-1467-1@172.16.200.141
STATUS:CONFIRMED
DTSTAMP:20260421T115620Z
CREATED:20200925T104354Z
LAST-MODIFIED:20200925T104354Z
DTSTART;VALUE=DATE:20201019
DTEND;VALUE=DATE:20201019
SUMMARY: Diplomatie\, Archäologie und rätselhafte Bronzen – Die Sammlung vo
 n der Schulenberg im Archäologischen Museum Frankfurt (Vortrag)
DESCRIPTION: 19.10.2020\, Frankfurt (Main) https://www.stadtgeschichte-ffm.
 de/de/veranstaltungen/kalender/390/diplomatie-archaeologie-und-raetselhafte
 -bronzen-die-sammlung-von-der-schulenburg-im-archaeologischen-museum-frankf
 urt  
X-ALT-DESC;FMTTYPE=text/html: <p>19.10.2020\, Frankfurt (Main)</p><p><a hre
 f="https://www.stadtgeschichte-ffm.de/de/veranstaltungen/kalender/390/diplo
 matie-archaeologie-und-raetselhafte-bronzen-die-sammlung-von-der-schulenbur
 g-im-archaeologischen-museum-frankfurt">https://www.stadtgeschichte-ffm.de/
 de/veranstaltungen/kalender/390/diplomatie-archaeologie-und-raetselhafte-br
 onzen-die-sammlung-von-der-schulenburg-im-archaeologischen-museum-frankfurt
 </a></p><p> </p><p>[av_button label='iCal-Export' link='./feed/eo-events' l
 ink_target='' size='small' position='center' label_display='' title_attr=''
  icon_select='yes' icon='ue85b' font='entypo-fontello' color='custom' custo
 m_bg='#b5123e' custom_font='#ffffff' av_uid='' id='' custom_class='' admin_
 preview_bg='']</p>
CATEGORIES:Recht interdisziplinär
ORGANIZER;CN="ViFa-Recht":MAILTO:vifa-recht@sbb.spk-berlin.de
URL;VALUE=URI:https://events.intrecht.de/termine/termin/diplomatie-archaeol
 ogie-und-raetselhafte-bronzen-die-sammlung-von-der-schulenberg-im-archaeolo
 gischen-museum-frankfurt-vortrag/
END:VEVENT
BEGIN:VTIMEZONE
TZID:Europe/Berlin
BEGIN:DAYLIGHT
TZOFFSETFROM:+0100
TZOFFSETTO:+0200
DTSTART:20200329T010000
TZNAME:CEST
END:DAYLIGHT
END:VTIMEZONE
END:VCALENDAR
