BEGIN:VCALENDAR
VERSION:2.0
PRODID:-//Events | FID-Recht//NONSGML Events//EN
CALSCALE:GREGORIAN
X-ORIGINAL-URL:https://events.intrecht.de/termine/
X-WR-CALDESC:Events | FID-Recht - Events
BEGIN:VEVENT
UID:20201115T2323Z-1605482588.215-EO-2307-1@172.16.200.141
STATUS:CONFIRMED
DTSTAMP:20260423T003503Z
CREATED:20201113T173836Z
LAST-MODIFIED:20201113T173836Z
DTSTART;VALUE=DATE:20201124
DTEND;VALUE=DATE:20201124
SUMMARY: Digitalization and Law – Effects of Novel Reading and Writing Proc
 esses on the Legal Discourse (mit Andreas Abegg) (Online-Vortrag)
DESCRIPTION: 24.11.2020\, Online https://digitalpractices2020.philhist.unib
 as.ch/en/abstracts/#ABSTRACTABEGG      
X-ALT-DESC;FMTTYPE=text/html: <p>24.11.2020\, Online</p><p><a href="https:/
 /digitalpractices2020.philhist.unibas.ch/en/abstracts/#ABSTRACTABEGG">https
 ://digitalpractices2020.philhist.unibas.ch/en/abstracts/#ABSTRACTABEGG</a><
 /p><p><strong> </strong></p><p><strong> </strong></p><p> </p><p>[av_button 
 label='iCal-Export' link='./feed/eo-events' link_target='' size='small' pos
 ition='center' label_display='' title_attr='' icon_select='yes' icon='ue85b
 ' font='entypo-fontello' color='custom' custom_bg='#b5123e' custom_font='#f
 fffff' av_uid='' id='' custom_class='' admin_preview_bg='']</p>
CATEGORIES:Recht interdisziplinär
LOCATION:Online
GEO:0.000000;0.000000
ORGANIZER;CN="ViFa-Recht":MAILTO:vifa-recht@sbb.spk-berlin.de
URL;VALUE=URI:https://events.intrecht.de/termine/termin/digitalization-and-
 law-effects-of-novel-reading-and-writing-processes-on-the-legal-discourse-m
 it-andreas-abegg-online-vortrag/
END:VEVENT
BEGIN:VTIMEZONE
TZID:Europe/Berlin
BEGIN:STANDARD
TZOFFSETFROM:+0200
TZOFFSETTO:+0100
DTSTART:20201025T010000
TZNAME:CET
END:STANDARD
END:VTIMEZONE
END:VCALENDAR
