BEGIN:VCALENDAR
VERSION:2.0
PRODID:-//Events | FID-Recht//NONSGML Events//EN
CALSCALE:GREGORIAN
X-ORIGINAL-URL:https://events.intrecht.de/termine/
X-WR-CALDESC:Events | FID-Recht - Events
BEGIN:VEVENT
UID:20200603T1418Z-1591193923.3362-EO-587-1@172.16.200.141
STATUS:CONFIRMED
DTSTAMP:20260423T003223Z
CREATED:20241212T144335Z
LAST-MODIFIED:20241212T144335Z
DTSTART;VALUE=DATE:20250220
DTEND;VALUE=DATE:20250222
SUMMARY: Digitales im Strafprozess. Wissenschaft und Praxis im Dialog (Tagu
 ng)
DESCRIPTION: 20.-21.2.2025 / München https://strafrechtskalender.de/event/d
 igitales-im-strafprozess-wissenschaft-und-praxis-im-dialog/
X-ALT-DESC;FMTTYPE=text/html: <p>20.-21.2.2025 / München</p><p><a href="htt
 ps://strafrechtskalender.de/event/digitales-im-strafprozess-wissenschaft-un
 d-praxis-im-dialog/">https://strafrechtskalender.de/event/digitales-im-stra
 fprozess-wissenschaft-und-praxis-im-dialog/</a></p><p>[av_button label='iCa
 l-Export' link='./feed/eo-events' link_target='' size='small' position='cen
 ter' label_display='' title_attr='' icon_select='yes' icon='ue85b' font='en
 typo-fontello' color='custom' custom_bg='#b5123e' custom_font='#ffffff' av_
 uid='' id='' custom_class='' admin_preview_bg='']</p>
CATEGORIES:Strafrecht
LOCATION:Inland
GEO:0.000000;0.000000
ORGANIZER;CN="ViFa-Recht":MAILTO:vifa-recht@sbb.spk-berlin.de
URL;VALUE=URI:https://events.intrecht.de/termine/termin/digitales-im-strafp
 rozess-wissenschaft-und-praxis-im-dialog-tagung/
END:VEVENT
BEGIN:VTIMEZONE
TZID:Europe/Berlin
BEGIN:STANDARD
TZOFFSETFROM:+0200
TZOFFSETTO:+0100
DTSTART:20241027T010000
TZNAME:CET
END:STANDARD
END:VTIMEZONE
END:VCALENDAR
