BEGIN:VCALENDAR
VERSION:2.0
PRODID:-//Events | FID-Recht//NONSGML Events//EN
CALSCALE:GREGORIAN
X-ORIGINAL-URL:https://events.intrecht.de/termine/
X-WR-CALDESC:Events | FID-Recht - Events
BEGIN:VEVENT
UID:20200603T1418Z-1591193923.3362-EO-587-1@172.16.200.141
STATUS:CONFIRMED
DTSTAMP:20260423T083329Z
CREATED:20230227T120001Z
LAST-MODIFIED:20230227T120001Z
DTSTART;VALUE=DATE:20230302
DTEND;VALUE=DATE:20230303
SUMMARY: Digitaler Mercator Talk: Zuwanderung\, Zusammenhalt und Zukunftsän
 gste – der Krieg in der Ukraine und seine Folgen in Deutschland
DESCRIPTION: 2.3.2023 / Online https://www.stiftung-mercator.de/de/veransta
 ltungen/
X-ALT-DESC;FMTTYPE=text/html: <p>2.3.2023 / Online</p><p><a href="https://w
 ww.stiftung-mercator.de/de/veranstaltungen/">https://www.stiftung-mercator.
 de/de/veranstaltungen/</a></p><p>[av_button label='iCal-Export' link='./fee
 d/eo-events' link_target='' size='small' position='center' label_display=''
  title_attr='' icon_select='yes' icon='ue85b' font='entypo-fontello' color=
 'custom' custom_bg='#b5123e' custom_font='#ffffff' av_uid='' id='' custom_c
 lass='' admin_preview_bg='']</p>
CATEGORIES:Recht interdisziplinär
LOCATION:Online
GEO:0.000000;0.000000
ORGANIZER;CN="ViFa-Recht":MAILTO:vifa-recht@sbb.spk-berlin.de
URL;VALUE=URI:https://events.intrecht.de/termine/termin/digitaler-mercator-
 talk-zuwanderung-zusammenhalt-und-zukunftsaengste-der-krieg-in-der-ukraine-
 und-seine-folgen-in-deutschland/
END:VEVENT
BEGIN:VTIMEZONE
TZID:Europe/Berlin
BEGIN:STANDARD
TZOFFSETFROM:+0200
TZOFFSETTO:+0100
DTSTART:20221030T010000
TZNAME:CET
END:STANDARD
END:VTIMEZONE
END:VCALENDAR
