BEGIN:VCALENDAR
VERSION:2.0
PRODID:-//Events | FID-Recht//NONSGML Events//EN
CALSCALE:GREGORIAN
X-ORIGINAL-URL:https://events.intrecht.de/termine/
X-WR-CALDESC:Events | FID-Recht - Events
BEGIN:VEVENT
UID:20200603T1418Z-1591193923.3362-EO-587-1@172.16.200.141
STATUS:CONFIRMED
DTSTAMP:20260423T003130Z
CREATED:20230810T093739Z
LAST-MODIFIED:20230810T093739Z
DTSTART;VALUE=DATE:20231012
DTEND;VALUE=DATE:20231014
SUMMARY: Digitale Resilienz: Effektives Recht auf sichere Software? (Tagung
 )
DESCRIPTION: 12.-13.10.2023 / Trier https://irdt.uni-trier.de/events/digita
 le-resilienz-effektives-recht-auf-sichere-software/
X-ALT-DESC;FMTTYPE=text/html: <p>12.-13.10.2023 / Trier</p><p><a href="http
 s://irdt.uni-trier.de/events/digitale-resilienz-effektives-recht-auf-sicher
 e-software/">https://irdt.uni-trier.de/events/digitale-resilienz-effektives
 -recht-auf-sichere-software/</a></p><p>[av_button label='iCal-Export' link=
 './feed/eo-events' link_target='' size='small' position='center' label_disp
 lay='' title_attr='' icon_select='yes' icon='ue85b' font='entypo-fontello' 
 color='custom' custom_bg='#b5123e' custom_font='#ffffff' av_uid='' id='' cu
 stom_class='' admin_preview_bg='']</p>
CATEGORIES:Recht interdisziplinär
LOCATION:Inland
GEO:0.000000;0.000000
ORGANIZER;CN="ViFa-Recht":MAILTO:vifa-recht@sbb.spk-berlin.de
URL;VALUE=URI:https://events.intrecht.de/termine/termin/digitale-resilienz-
 effektives-recht-auf-sichere-software-tagung/
END:VEVENT
BEGIN:VTIMEZONE
TZID:Europe/Berlin
BEGIN:DAYLIGHT
TZOFFSETFROM:+0100
TZOFFSETTO:+0200
DTSTART:20230326T010000
TZNAME:CEST
END:DAYLIGHT
END:VTIMEZONE
END:VCALENDAR
