BEGIN:VCALENDAR
VERSION:2.0
PRODID:-//Events | FID-Recht//NONSGML Events//EN
CALSCALE:GREGORIAN
X-ORIGINAL-URL:https://events.intrecht.de/termine/
X-WR-CALDESC:Events | FID-Recht - Events
BEGIN:VEVENT
UID:20211117T2040Z-1637181614.5131-EO-5211-1@172.16.200.141
STATUS:CONFIRMED
DTSTAMP:20260422T125346Z
CREATED:20211116T233900Z
LAST-MODIFIED:20211116T233900Z
DTSTART;VALUE=DATE:20211124
DTEND;VALUE=DATE:20211125
SUMMARY: Digitale Plattformen und datengetriebene Märkte – Brauchen wir ein
 en neuen ordnungspolitischen Rahmen für die Ökonomie des 21. Jahrhunderts? 
 (mit Jan Krämer) (Online-Vortrag)
DESCRIPTION: 24.11.2021\, Online Digitale Gesellschaft im 21. Jahrhundert •
  Universität Passau (uni-passau.de)  
X-ALT-DESC;FMTTYPE=text/html: <p>24.11.2021\, Online</p><p><a href="https:/
 /www.jura.uni-passau.de/fakultaet/forschungseinrichtungen/fredi/veranstaltu
 ngen-und-veranstaltungsreihen/digitale-gesellschaft-im-21-jahrhundert/">Dig
 itale Gesellschaft im 21. Jahrhundert • Universität Passau (uni-passau.de)<
 /a></p><p> </p><p>[av_button label='iCal-Export' link='./feed/eo-events' li
 nk_target='' size='small' position='center' label_display='' title_attr='' 
 icon_select='yes' icon='ue85b' font='entypo-fontello' color='custom' custom
 _bg='#b5123e' custom_font='#ffffff' av_uid='' id='' custom_class='' admin_p
 review_bg='']</p>
CATEGORIES:Recht interdisziplinär
LOCATION:Online
GEO:0.000000;0.000000
ORGANIZER;CN="ViFa-Recht":MAILTO:vifa-recht@sbb.spk-berlin.de
URL;VALUE=URI:https://events.intrecht.de/termine/termin/digitale-plattforme
 n-und-datengetriebene-maerkte-brauchen-wir-einen-neuen-ordnungspolitischen-
 rahmen-fuer-die-oekonomie-des-21-jahrhunderts-mit-jan-kraemer-online-vortra
 g/
END:VEVENT
BEGIN:VTIMEZONE
TZID:Europe/Berlin
BEGIN:STANDARD
TZOFFSETFROM:+0200
TZOFFSETTO:+0100
DTSTART:20211031T010000
TZNAME:CET
END:STANDARD
END:VTIMEZONE
END:VCALENDAR
