BEGIN:VCALENDAR
VERSION:2.0
PRODID:-//Events | FID-Recht//NONSGML Events//EN
CALSCALE:GREGORIAN
X-ORIGINAL-URL:https://events.intrecht.de/termine/
X-WR-CALDESC:Events | FID-Recht - Events
BEGIN:VEVENT
UID:20200603T1418Z-1591193923.3362-EO-587-1@172.16.200.141
STATUS:CONFIRMED
DTSTAMP:20260425T164631Z
CREATED:20231109T182120Z
LAST-MODIFIED:20231109T182230Z
DTSTART;VALUE=DATE:20231127
DTEND;VALUE=DATE:20231128
SUMMARY: Digitale Kamingespräche: Prof. Dr. Thomas Dreier\, M.C.J. (NYU)
DESCRIPTION: 27.11.2023 18:00 Uhr / Online https://ebs.zoom.us/my/h2law
X-ALT-DESC;FMTTYPE=text/html: <p>27.11.2023 18:00 Uhr / Online</p><p><a hre
 f="https://ebs.zoom.us/my/h2law">https://ebs.zoom.us/my/h2law</a></p><p>[av
 _button label='iCal-Export' link='./feed/eo-events' link_target='' size='sm
 all' position='center' label_display='' title_attr='' icon_select='yes' ico
 n='ue85b' font='entypo-fontello' color='custom' custom_bg='#b5123e' custom_
 font='#ffffff' av_uid='' id='' custom_class='' admin_preview_bg='']</p>
CATEGORIES:Recht interdisziplinär
LOCATION:Online
GEO:0.000000;0.000000
ORGANIZER;CN="ViFa-Recht":MAILTO:vifa-recht@sbb.spk-berlin.de
URL;VALUE=URI:https://events.intrecht.de/termine/termin/digitale-kamingespr
 aeche-prof-dr-thomas-dreier-m-c-j-nyu/
END:VEVENT
BEGIN:VTIMEZONE
TZID:Europe/Berlin
BEGIN:STANDARD
TZOFFSETFROM:+0200
TZOFFSETTO:+0100
DTSTART:20231029T010000
TZNAME:CET
END:STANDARD
END:VTIMEZONE
END:VCALENDAR
