BEGIN:VCALENDAR
VERSION:2.0
PRODID:-//Events | FID-Recht//NONSGML Events//EN
CALSCALE:GREGORIAN
X-ORIGINAL-URL:https://events.intrecht.de/termine/
X-WR-CALDESC:Events | FID-Recht - Events
BEGIN:VEVENT
UID:20200603T1418Z-1591193923.3362-EO-587-1@172.16.200.141
STATUS:CONFIRMED
DTSTAMP:20260425T162521Z
CREATED:20231113T112313Z
LAST-MODIFIED:20231113T112313Z
DTSTART;VALUE=DATE:20231212
DTEND;VALUE=DATE:20231213
SUMMARY: Digital Work Platforms at the Interface of Labour Law. Regulating 
 Market Organisers (Book Launch)
DESCRIPTION: 12.12.2023 / Online und Berlin https://www.rewi.hu-berlin.de/d
 e/lf/oe/lsi/termine/digital-work-platforms-at-the-interface-of-labour-law-r
 egulating-market-organisers-bloomsbury-publishing-book-launch-with-prof-dr-
 eva-kocher
X-ALT-DESC;FMTTYPE=text/html: <p>12.12.2023 / Online und Berlin</p><p><a hr
 ef="https://www.rewi.hu-berlin.de/de/lf/oe/lsi/termine/digital-work-platfor
 ms-at-the-interface-of-labour-law-regulating-market-organisers-bloomsbury-p
 ublishing-book-launch-with-prof-dr-eva-kocher">https://www.rewi.hu-berlin.d
 e/de/lf/oe/lsi/termine/digital-work-platforms-at-the-interface-of-labour-la
 w-regulating-market-organisers-bloomsbury-publishing-book-launch-with-prof-
 dr-eva-kocher</a></p><p>[av_button label='iCal-Export' link='./feed/eo-even
 ts' link_target='' size='small' position='center' label_display='' title_at
 tr='' icon_select='yes' icon='ue85b' font='entypo-fontello' color='custom' 
 custom_bg='#b5123e' custom_font='#ffffff' av_uid='' id='' custom_class='' a
 dmin_preview_bg='']</p>
CATEGORIES:Recht interdisziplinär
LOCATION:Online
GEO:0.000000;0.000000
ORGANIZER;CN="ViFa-Recht":MAILTO:vifa-recht@sbb.spk-berlin.de
URL;VALUE=URI:https://events.intrecht.de/termine/termin/digital-work-platfo
 rms-at-the-interface-of-labour-law-regulating-market-organisers-book-launch
 -2/
END:VEVENT
BEGIN:VTIMEZONE
TZID:Europe/Berlin
BEGIN:STANDARD
TZOFFSETFROM:+0200
TZOFFSETTO:+0100
DTSTART:20231029T010000
TZNAME:CET
END:STANDARD
END:VTIMEZONE
END:VCALENDAR
