BEGIN:VCALENDAR
VERSION:2.0
PRODID:-//Events | FID-Recht//NONSGML Events//EN
CALSCALE:GREGORIAN
X-ORIGINAL-URL:https://events.intrecht.de/termine/
X-WR-CALDESC:Events | FID-Recht - Events
BEGIN:VEVENT
UID:20200603T1418Z-1591193923.3362-EO-587-1@172.16.200.141
STATUS:CONFIRMED
DTSTAMP:20260422T174039Z
CREATED:20240508T070217Z
LAST-MODIFIED:20240508T070217Z
DTSTART;VALUE=DATE:20250214
DTEND;VALUE=DATE:20250216
SUMMARY: Digital transformation and Private International Law / Local conne
 ctions in boundless spaces (5th German Conference for Young Researchers in 
 Private International Law)
DESCRIPTION: 14.-15.2.2025 / Heidelberg (Einreichungsfrist: 23.9.2024) http
 s://www.ipr.uni-heidelberg.de/md/jura/ipr/ipr-nachwuchstagung/cfp_eng_final
 .pdf
X-ALT-DESC;FMTTYPE=text/html: <p>14.-15.2.2025 / Heidelberg <strong>(Einrei
 chungsfrist: 23.9.2024)</strong></p><p><a href="https://www.ipr.uni-heidelb
 erg.de/md/jura/ipr/ipr-nachwuchstagung/cfp_eng_final.pdf">https://www.ipr.u
 ni-heidelberg.de/md/jura/ipr/ipr-nachwuchstagung/cfp_eng_final.pdf</a></p><
 p>[av_button label='iCal-Export' link='./feed/eo-events' link_target='' siz
 e='small' position='center' label_display='' title_attr='' icon_select='yes
 ' icon='ue85b' font='entypo-fontello' color='custom' custom_bg='#b5123e' cu
 stom_font='#ffffff' av_uid='' id='' custom_class='' admin_preview_bg='']</p
 >
CATEGORIES:Zivilrecht
LOCATION:Inland
GEO:0.000000;0.000000
ORGANIZER;CN="ViFa-Recht":MAILTO:vifa-recht@sbb.spk-berlin.de
URL;VALUE=URI:https://events.intrecht.de/termine/termin/digital-transformat
 ion-and-private-international-law-local-connections-in-boundless-spaces-5th
 -german-conference-for-young-researchers-in-private-international-law/
END:VEVENT
BEGIN:VTIMEZONE
TZID:Europe/Berlin
BEGIN:STANDARD
TZOFFSETFROM:+0200
TZOFFSETTO:+0100
DTSTART:20241027T010000
TZNAME:CET
END:STANDARD
END:VTIMEZONE
END:VCALENDAR
