BEGIN:VCALENDAR
VERSION:2.0
PRODID:-//Events | FID-Recht//NONSGML Events//EN
CALSCALE:GREGORIAN
X-ORIGINAL-URL:https://events.intrecht.de/termine/
X-WR-CALDESC:Events | FID-Recht - Events
BEGIN:VEVENT
UID:20200603T1418Z-1591193923.3362-EO-587-1@172.16.200.141
STATUS:CONFIRMED
DTSTAMP:20260425T200929Z
CREATED:20240719T124048Z
LAST-MODIFIED:20240719T124048Z
DTSTART;VALUE=DATE:20240909
DTEND;VALUE=DATE:20240910
SUMMARY: Digital Rights (Online Conference)
DESCRIPTION: 9.9.2024 / Online (Einreichungsfrist: 5.8.2024) https://mcuser
 content.com/47624183ad52dd8428c97d3f6/files/76cd0ece-931d-9d0d-95d5-05451e5
 6adf2/Call_dated_30_June_2024.pdf
X-ALT-DESC;FMTTYPE=text/html: <p>9.9.2024 / Online <strong>(Einreichungsfri
 st: 5.8.2024)</strong></p><p><a href="https://mcusercontent.com/47624183ad5
 2dd8428c97d3f6/files/76cd0ece-931d-9d0d-95d5-05451e56adf2/Call_dated_30_Jun
 e_2024.pdf">https://mcusercontent.com/47624183ad52dd8428c97d3f6/files/76cd0
 ece-931d-9d0d-95d5-05451e56adf2/Call_dated_30_June_2024.pdf</a></p><p>[av_b
 utton label='iCal-Export' link='./feed/eo-events' link_target='' size='smal
 l' position='center' label_display='' title_attr='' icon_select='yes' icon=
 'ue85b' font='entypo-fontello' color='custom' custom_bg='#b5123e' custom_fo
 nt='#ffffff' av_uid='' id='' custom_class='' admin_preview_bg='']</p>
CATEGORIES:Recht interdisziplinär
LOCATION:Online
GEO:0.000000;0.000000
ORGANIZER;CN="ViFa-Recht":MAILTO:vifa-recht@sbb.spk-berlin.de
URL;VALUE=URI:https://events.intrecht.de/termine/termin/digital-rights-onli
 ne-conference/
END:VEVENT
BEGIN:VTIMEZONE
TZID:Europe/Berlin
BEGIN:DAYLIGHT
TZOFFSETFROM:+0100
TZOFFSETTO:+0200
DTSTART:20240331T010000
TZNAME:CEST
END:DAYLIGHT
END:VTIMEZONE
END:VCALENDAR
