BEGIN:VCALENDAR
VERSION:2.0
PRODID:-//Events | FID-Recht//NONSGML Events//EN
CALSCALE:GREGORIAN
X-ORIGINAL-URL:https://events.intrecht.de/termine/
X-WR-CALDESC:Events | FID-Recht - Events
BEGIN:VEVENT
UID:20210302T1102Z-1614682963.7512-EO-3431-1@172.16.200.141
STATUS:CONFIRMED
DTSTAMP:20260421T102513Z
CREATED:20210219T134225Z
LAST-MODIFIED:20210219T134225Z
DTSTART;VALUE=DATE:20210301
DTEND;VALUE=DATE:20210301
SUMMARY: Digital Methods and Resources in Legal History (Online-Tagung)
DESCRIPTION: 1.3.2021\, Online https://www.rg.mpg.de/2255447/event-21-03-04
 -digital-methods-and-resources-in-legal-history.html  
X-ALT-DESC;FMTTYPE=text/html: <p>1.3.2021\, Online</p><p><a href="https://w
 ww.rg.mpg.de/2255447/event-21-03-04-digital-methods-and-resources-in-legal-
 history.html">https://www.rg.mpg.de/2255447/event-21-03-04-digital-methods-
 and-resources-in-legal-history.html</a></p><p> </p><p>[av_button label='iCa
 l-Export' link='./feed/eo-events' link_target='' size='small' position='cen
 ter' label_display='' title_attr='' icon_select='yes' icon='ue85b' font='en
 typo-fontello' color='custom' custom_bg='#b5123e' custom_font='#ffffff' av_
 uid='' id='' custom_class='' admin_preview_bg='']</p>
CATEGORIES:Recht interdisziplinär
LOCATION:Online
GEO:0.000000;0.000000
ORGANIZER;CN="ViFa-Recht":MAILTO:vifa-recht@sbb.spk-berlin.de
URL;VALUE=URI:https://events.intrecht.de/termine/termin/digital-methods-and
 -resources-in-legal-history-online-tagung/
END:VEVENT
BEGIN:VTIMEZONE
TZID:Europe/Berlin
BEGIN:STANDARD
TZOFFSETFROM:+0200
TZOFFSETTO:+0100
DTSTART:20201025T010000
TZNAME:CET
END:STANDARD
END:VTIMEZONE
END:VCALENDAR
