BEGIN:VCALENDAR
VERSION:2.0
PRODID:-//Events | FID-Recht//NONSGML Events//EN
CALSCALE:GREGORIAN
X-ORIGINAL-URL:https://events.intrecht.de/termine/
X-WR-CALDESC:Events | FID-Recht - Events
BEGIN:VEVENT
UID:20200616T2249Z-1592347747.2311-EO-1004-1@172.16.200.141
STATUS:CONFIRMED
DTSTAMP:20260421T133437Z
CREATED:20200605T124606Z
LAST-MODIFIED:20200605T124642Z
DTSTART;VALUE=DATE:20200616
DTEND;VALUE=DATE:20200617
SUMMARY: Digital Finance and Globalisation after COVID-19 (Law\, Finance\, 
 and Technology Lunchtime Workshop with Douglas W. Arner) (Workshop)
DESCRIPTION: 16..2020\, Online https://www.jura.uni-hamburg.de/forschung/in
 stitute-forschungsstellen-und-zentren/institut-recht-oekonomik/news-und-eve
 nts/aktuelle-meldungen/2020-06-17.html
X-ALT-DESC;FMTTYPE=text/html: <p>16..2020\, Online</p><p><a href="https://w
 ww.jura.uni-hamburg.de/forschung/institute-forschungsstellen-und-zentren/in
 stitut-recht-oekonomik/news-und-events/aktuelle-meldungen/2020-06-17.html">
 https://www.jura.uni-hamburg.de/forschung/institute-forschungsstellen-und-z
 entren/institut-recht-oekonomik/news-und-events/aktuelle-meldungen/2020-06-
 17.html</a></p><p>[av_button label='iCal-Export' link='./feed/eo-events' li
 nk_target='' size='small' position='center' label_display='' title_attr='' 
 icon_select='yes' icon='ue85b' font='entypo-fontello' color='custom' custom
 _bg='#b5123e' custom_font='#ffffff' av_uid='' id='' custom_class='' admin_p
 review_bg='']</p>
CATEGORIES:Recht interdisziplinär
LOCATION:Online
GEO:0.000000;0.000000
ORGANIZER;CN="ViFa-Recht":MAILTO:vifa-recht@sbb.spk-berlin.de
URL;VALUE=URI:https://events.intrecht.de/termine/termin/digital-finance-and
 -globalisation-after-covid-19-law-finance-and-technology-lunchtime-workshop
 /
END:VEVENT
BEGIN:VTIMEZONE
TZID:Europe/Berlin
BEGIN:DAYLIGHT
TZOFFSETFROM:+0100
TZOFFSETTO:+0200
DTSTART:20200329T010000
TZNAME:CEST
END:DAYLIGHT
END:VTIMEZONE
END:VCALENDAR
