BEGIN:VCALENDAR
VERSION:2.0
PRODID:-//Events | FID-Recht//NONSGML Events//EN
CALSCALE:GREGORIAN
X-ORIGINAL-URL:https://events.intrecht.de/termine/
X-WR-CALDESC:Events | FID-Recht - Events
BEGIN:VEVENT
UID:20200603T1418Z-1591193923.3362-EO-587-1@172.16.200.141
STATUS:CONFIRMED
DTSTAMP:20260426T011528Z
CREATED:20231115T122057Z
LAST-MODIFIED:20231115T122057Z
DTSTART;VALUE=DATE:20240801
DTEND;VALUE=DATE:20240803
SUMMARY: Diffusion of Laws in Asia (International Forum on Asian Laws)
DESCRIPTION: 1.-2.8.2024 / Singapur (Einreichungsfrist: 1.2.2024) https://w
 ww.law.ox.ac.uk/content/news/international-forum-asian-laws-diffusion-laws-
 asia-call-papers
X-ALT-DESC;FMTTYPE=text/html: <p>1.-2.8.2024 / Singapur <strong>(Einreichun
 gsfrist: 1.2.2024)</strong></p><p><a href="https://www.law.ox.ac.uk/content
 /news/international-forum-asian-laws-diffusion-laws-asia-call-papers">https
 ://www.law.ox.ac.uk/content/news/international-forum-asian-laws-diffusion-l
 aws-asia-call-papers</a></p><p>[av_button label='iCal-Export' link='./feed/
 eo-events' link_target='' size='small' position='center' label_display='' t
 itle_attr='' icon_select='yes' icon='ue85b' font='entypo-fontello' color='c
 ustom' custom_bg='#b5123e' custom_font='#ffffff' av_uid='' id='' custom_cla
 ss='' admin_preview_bg='']</p>
CATEGORIES:Europäisches / Internationales Recht
LOCATION:Ausland
GEO:0.000000;0.000000
ORGANIZER;CN="ViFa-Recht":MAILTO:vifa-recht@sbb.spk-berlin.de
URL;VALUE=URI:https://events.intrecht.de/termine/termin/diffusion-of-laws-i
 n-asia-international-forum-on-asian-laws/
END:VEVENT
BEGIN:VTIMEZONE
TZID:Europe/Berlin
BEGIN:DAYLIGHT
TZOFFSETFROM:+0100
TZOFFSETTO:+0200
DTSTART:20240331T010000
TZNAME:CEST
END:DAYLIGHT
END:VTIMEZONE
END:VCALENDAR
