BEGIN:VCALENDAR
VERSION:2.0
PRODID:-//Events | FID-Recht//NONSGML Events//EN
CALSCALE:GREGORIAN
X-ORIGINAL-URL:https://events.intrecht.de/termine/
X-WR-CALDESC:Events | FID-Recht - Events
BEGIN:VEVENT
UID:20211117T2040Z-1637181606.6216-EO-5143-1@172.16.200.141
STATUS:CONFIRMED
DTSTAMP:20260421T151947Z
CREATED:20211116T225333Z
LAST-MODIFIED:20211116T225333Z
DTSTART;VALUE=DATE:20211111
DTEND;VALUE=DATE:20211112
SUMMARY: Differenzierungstheorie. Die Vierte Gewalt und die Kontrollgesells
 chaft – Gewaltmultiplikation aus differenzierungstheoretischer Perspektive 
 (mit Marc Mölders) / Kennzeichnung von Polizeibeamten (mit Tristan Barczak)
  (Online-Vorträge)
DESCRIPTION: 10.11.2021\, Online Passauer 10 Minuten zum Thema Gewalt • Uni
 versität Passau (uni-passau.de)  
X-ALT-DESC;FMTTYPE=text/html: <p>10.11.2021\, Online</p><p><a href="https:/
 /www.phil.uni-passau.de/10minuten-wise21/">Passauer 10 Minuten zum Thema Ge
 walt • Universität Passau (uni-passau.de)</a></p><p> </p><p>[av_button labe
 l='iCal-Export' link='./feed/eo-events' link_target='' size='small' positio
 n='center' label_display='' title_attr='' icon_select='yes' icon='ue85b' fo
 nt='entypo-fontello' color='custom' custom_bg='#b5123e' custom_font='#fffff
 f' av_uid='' id='' custom_class='' admin_preview_bg='']</p>
CATEGORIES:Recht interdisziplinär
LOCATION:Online
GEO:0.000000;0.000000
ORGANIZER;CN="ViFa-Recht":MAILTO:vifa-recht@sbb.spk-berlin.de
URL;VALUE=URI:https://events.intrecht.de/termine/termin/differenzierungsthe
 orie-die-vierte-gewalt-und-die-kontrollgesellschaft-gewaltmultiplikation-au
 s-differenzierungstheoretischer-perspektive-mit-marc-moelders-kennzeichnung
 -von-polizeibeam/
END:VEVENT
BEGIN:VTIMEZONE
TZID:Europe/Berlin
BEGIN:STANDARD
TZOFFSETFROM:+0200
TZOFFSETTO:+0100
DTSTART:20211031T010000
TZNAME:CET
END:STANDARD
END:VTIMEZONE
END:VCALENDAR
