BEGIN:VCALENDAR
VERSION:2.0
PRODID:-//Events | FID-Recht//NONSGML Events//EN
CALSCALE:GREGORIAN
X-ORIGINAL-URL:https://events.intrecht.de/termine/
X-WR-CALDESC:Events | FID-Recht - Events
BEGIN:VEVENT
UID:20201216T0938Z-1608111485.6927-EO-2602-1@172.16.200.141
STATUS:CONFIRMED
DTSTAMP:20260421T102922Z
CREATED:20201201T175819Z
LAST-MODIFIED:20201201T175819Z
DTSTART;VALUE=DATE:20201202
DTEND;VALUE=DATE:20201202
SUMMARY: Diener zweier Herren – DDR-Juristen zwischen Recht und Macht“ (mit
  Inga Markovits\, Boris Burghardt und Rosemarie Will) (Online-Buchvorstellu
 ng)
DESCRIPTION:  2.12.2020\, Online https://www.forumjustizgeschichte.de/diene
 r-zweier-herren-ddr-juristen-zwischen-recht-und-macht/  
X-ALT-DESC;FMTTYPE=text/html: <p><strong> </strong>2.12.2020\, Online</p><p
 ><a href="https://www.forumjustizgeschichte.de/diener-zweier-herren-ddr-jur
 isten-zwischen-recht-und-macht/">https://www.forumjustizgeschichte.de/diene
 r-zweier-herren-ddr-juristen-zwischen-recht-und-macht/</a></p><p> </p><p>[a
 v_button label='iCal-Export' link='./feed/eo-events' link_target='' size='s
 mall' position='center' label_display='' title_attr='' icon_select='yes' ic
 on='ue85b' font='entypo-fontello' color='custom' custom_bg='#b5123e' custom
 _font='#ffffff' av_uid='' id='' custom_class='' admin_preview_bg='']</p>
CATEGORIES:Recht interdisziplinär
LOCATION:Online
GEO:0.000000;0.000000
ORGANIZER;CN="ViFa-Recht":MAILTO:vifa-recht@sbb.spk-berlin.de
URL;VALUE=URI:https://events.intrecht.de/termine/termin/diener-zweier-herre
 n-ddr-juristen-zwischen-recht-und-macht-mit-inga-markovits-boris-burghardt-
 und-rosemarie-will-online-buchvorstellung/
END:VEVENT
BEGIN:VTIMEZONE
TZID:Europe/Berlin
BEGIN:STANDARD
TZOFFSETFROM:+0200
TZOFFSETTO:+0100
DTSTART:20201025T010000
TZNAME:CET
END:STANDARD
END:VTIMEZONE
END:VCALENDAR
