BEGIN:VCALENDAR
VERSION:2.0
PRODID:-//Events | FID-Recht//NONSGML Events//EN
CALSCALE:GREGORIAN
X-ORIGINAL-URL:https://events.intrecht.de/termine/
X-WR-CALDESC:Events | FID-Recht - Events
BEGIN:VEVENT
UID:20210821T1455Z-1629557716.4303-EO-4371-1@172.16.200.141
STATUS:CONFIRMED
DTSTAMP:20260421T133529Z
CREATED:20210819T160224Z
LAST-MODIFIED:20210819T160233Z
DTSTART;TZID=Europe/Berlin:20210831T190000
DTEND;TZID=Europe/Berlin:20210831T210000
SUMMARY: Diener des Rechts und der Vernichtung. Das Verfahren gegen die Tei
 lnehmer der Konferenz von 1941\, oder: Die Justiz gegen Fritz Bauer (Online
 -Vortrag)
DESCRIPTION: 31.8.2021\, Online https://www.topographie.de/nc/veranstaltung
 en/veranstaltung/nid/diener-des-rechts-und-der-vernichtung-das-verfahren-ge
 gen-die-teilnehmer-der-konferenz-von-1941-od/y/2021/m/08/d/31/  
X-ALT-DESC;FMTTYPE=text/html: <p>31.8.2021\, Online</p><p><a href="https://
 www.topographie.de/nc/veranstaltungen/veranstaltung/nid/diener-des-rechts-u
 nd-der-vernichtung-das-verfahren-gegen-die-teilnehmer-der-konferenz-von-194
 1-od/y/2021/m/08/d/31/">https://www.topographie.de/nc/veranstaltungen/veran
 staltung/nid/diener-des-rechts-und-der-vernichtung-das-verfahren-gegen-die-
 teilnehmer-der-konferenz-von-1941-od/y/2021/m/08/d/31/</a></p><p> </p><p>[a
 v_button label='iCal-Export' link='./feed/eo-events' link_target='' size='s
 mall' position='center' label_display='' title_attr='' icon_select='yes' ic
 on='ue85b' font='entypo-fontello' color='custom' custom_bg='#b5123e' custom
 _font='#ffffff' av_uid='' id='' custom_class='' admin_preview_bg='']</p>
CATEGORIES:Recht interdisziplinär
LOCATION:Online
GEO:0.000000;0.000000
ORGANIZER;CN="ViFa-Recht":MAILTO:vifa-recht@sbb.spk-berlin.de
URL;VALUE=URI:https://events.intrecht.de/termine/termin/diener-des-rechts-u
 nd-der-vernichtung-das-verfahren-gegen-die-teilnehmer-der-konferenz-von-194
 1-oder-die-justiz-gegen-fritz-bauer-online-vortrag/
END:VEVENT
BEGIN:VTIMEZONE
TZID:Europe/Berlin
BEGIN:DAYLIGHT
TZOFFSETFROM:+0100
TZOFFSETTO:+0200
DTSTART:20210328T010000
TZNAME:CEST
END:DAYLIGHT
END:VTIMEZONE
END:VCALENDAR
