BEGIN:VCALENDAR
VERSION:2.0
PRODID:-//Events | FID-Recht//NONSGML Events//EN
CALSCALE:GREGORIAN
X-ORIGINAL-URL:https://events.intrecht.de/termine/
X-WR-CALDESC:Events | FID-Recht - Events
BEGIN:VEVENT
UID:20200603T1418Z-1591193923.3362-EO-587-1@172.16.200.141
STATUS:CONFIRMED
DTSTAMP:20260425T132613Z
CREATED:20230221T120623Z
LAST-MODIFIED:20230221T120623Z
DTSTART;VALUE=DATE:20230512
DTEND;VALUE=DATE:20230515
SUMMARY: Die Ziele für Nachhaltige Entwicklung der Vereinten Nationen: Eine
  Aufgabe für die gesamte Gesellschaft (Seminar)
DESCRIPTION: 12.-14.5.2023 / Berlin https://dgvn.de/aktivitaeten/einzelansi
 cht/die-ziele-fuer-nachhaltige-entwicklung-der-vereinten-nationen-eine-aufg
 abe-fuer-die-gesamte-gesellschaft
X-ALT-DESC;FMTTYPE=text/html: <p>12.-14.5.2023 / Berlin</p><p><a href="http
 s://dgvn.de/aktivitaeten/einzelansicht/die-ziele-fuer-nachhaltige-entwicklu
 ng-der-vereinten-nationen-eine-aufgabe-fuer-die-gesamte-gesellschaft">https
 ://dgvn.de/aktivitaeten/einzelansicht/die-ziele-fuer-nachhaltige-entwicklun
 g-der-vereinten-nationen-eine-aufgabe-fuer-die-gesamte-gesellschaft</a></p>
 <p>[av_button label='iCal-Export' link='./feed/eo-events' link_target='' si
 ze='small' position='center' label_display='' title_attr='' icon_select='ye
 s' icon='ue85b' font='entypo-fontello' color='custom' custom_bg='#b5123e' c
 ustom_font='#ffffff' av_uid='' id='' custom_class='' admin_preview_bg='']</
 p>
CATEGORIES:Recht interdisziplinär
LOCATION:Inland
GEO:0.000000;0.000000
ORGANIZER;CN="ViFa-Recht":MAILTO:vifa-recht@sbb.spk-berlin.de
URL;VALUE=URI:https://events.intrecht.de/termine/termin/die-ziele-fuer-nach
 haltige-entwicklung-der-vereinten-nationen-eine-aufgabe-fuer-die-gesamte-ge
 sellschaft-seminar/
END:VEVENT
BEGIN:VTIMEZONE
TZID:Europe/Berlin
BEGIN:DAYLIGHT
TZOFFSETFROM:+0100
TZOFFSETTO:+0200
DTSTART:20230326T010000
TZNAME:CEST
END:DAYLIGHT
END:VTIMEZONE
END:VCALENDAR
