BEGIN:VCALENDAR
VERSION:2.0
PRODID:-//Events | FID-Recht//NONSGML Events//EN
CALSCALE:GREGORIAN
X-ORIGINAL-URL:https://events.intrecht.de/termine/
X-WR-CALDESC:Events | FID-Recht - Events
BEGIN:VEVENT
UID:20200603T1418Z-1591193923.3362-EO-587-1@172.16.200.141
STATUS:CONFIRMED
DTSTAMP:20260423T034245Z
CREATED:20250729T081950Z
LAST-MODIFIED:20250729T081950Z
DTSTART;VALUE=DATE:20260212
DTEND;VALUE=DATE:20260214
SUMMARY: Die Wirklichkeiten der Normen (Workshop)
DESCRIPTION: 12.-13.2.2026 / Weimar (Einreichungsfrist: 30.9.2025) https://
 soziologie.de/fileadmin/user_upload/calls/2025/07/CfP_Wirklichkeiten_der_No
 rmen.pdf
X-ALT-DESC;FMTTYPE=text/html: <p>12.-13.2.2026 / Weimar <strong>(Einreichun
 gsfrist: 30.9.2025)</strong></p><p><a href="https://soziologie.de/fileadmin
 /user_upload/calls/2025/07/CfP_Wirklichkeiten_der_Normen.pdf">https://sozio
 logie.de/fileadmin/user_upload/calls/2025/07/CfP_Wirklichkeiten_der_Normen.
 pdf</a></p><p>[av_button label='iCal-Export' link='./feed/eo-events' link_t
 arget='' size='small' position='center' label_display='' title_attr='' icon
 _select='yes' icon='ue85b' font='entypo-fontello' color='custom' custom_bg=
 '#b5123e' custom_font='#ffffff' av_uid='' id='' custom_class='' admin_previ
 ew_bg='']</p>
CATEGORIES:Recht interdisziplinär
LOCATION:Inland
GEO:0.000000;0.000000
ORGANIZER;CN="ViFa-Recht":MAILTO:vifa-recht@sbb.spk-berlin.de
URL;VALUE=URI:https://events.intrecht.de/termine/termin/die-wirklichkeiten-
 der-normen-workshop/
END:VEVENT
BEGIN:VTIMEZONE
TZID:Europe/Berlin
BEGIN:STANDARD
TZOFFSETFROM:+0200
TZOFFSETTO:+0100
DTSTART:20251026T010000
TZNAME:CET
END:STANDARD
END:VTIMEZONE
END:VCALENDAR
