BEGIN:VCALENDAR
VERSION:2.0
PRODID:-//Events | FID-Recht//NONSGML Events//EN
CALSCALE:GREGORIAN
X-ORIGINAL-URL:https://events.intrecht.de/termine/
X-WR-CALDESC:Events | FID-Recht - Events
BEGIN:VEVENT
UID:20220903T1852Z-1662231166.0828-EO-5328-1@172.16.200.151
STATUS:CONFIRMED
DTSTAMP:20260423T012412Z
CREATED:20220901T102442Z
LAST-MODIFIED:20220901T102442Z
DTSTART;VALUE=DATE:20221020
DTEND;VALUE=DATE:20221022
SUMMARY: Die völkerrechtsfreundliche Verfassung – Ein Grundsatz im deutsch-
 österreichisch-schweizerischen Rechtsvergleich (Symposium)
DESCRIPTION: 20.-21.10.2022\, Innsbruck (Anmeldefrist: 1.10.2022) https://v
 oelkerrechtsblog.org/events/die-voelkerrechtsfreundliche-verfassung/  
X-ALT-DESC;FMTTYPE=text/html: <p>20.-21.10.2022\, Innsbruck (Anmeldefrist: 
 1.10.2022)</p><p><a href="https://voelkerrechtsblog.org/events/die-voelkerr
 echtsfreundliche-verfassung/">https://voelkerrechtsblog.org/events/die-voel
 kerrechtsfreundliche-verfassung/</a></p><p> </p><p>[av_button label='iCal-E
 xport' link='./feed/eo-events' link_target='' size='small' position='center
 ' label_display='' title_attr='' icon_select='yes' icon='ue85b' font='entyp
 o-fontello' color='custom' custom_bg='#b5123e' custom_font='#ffffff' av_uid
 ='' id='' custom_class='' admin_preview_bg='']</p>
CATEGORIES:Europäisches / Internationales Recht
LOCATION:Ausland
GEO:0.000000;0.000000
ORGANIZER;CN="ViFa-Recht":MAILTO:vifa-recht@sbb.spk-berlin.de
URL;VALUE=URI:https://events.intrecht.de/termine/termin/die-voelkerrechtsfr
 eundliche-verfassung-ein-grundsatz-im-deutsch-oesterreichisch-schweizerisch
 en-rechtsvergleich-symposium/
END:VEVENT
BEGIN:VTIMEZONE
TZID:Europe/Berlin
BEGIN:DAYLIGHT
TZOFFSETFROM:+0100
TZOFFSETTO:+0200
DTSTART:20220327T010000
TZNAME:CEST
END:DAYLIGHT
END:VTIMEZONE
END:VCALENDAR
