BEGIN:VCALENDAR
VERSION:2.0
PRODID:-//Events | FID-Recht//NONSGML Events//EN
CALSCALE:GREGORIAN
X-ORIGINAL-URL:https://events.intrecht.de/termine/
X-WR-CALDESC:Events | FID-Recht - Events
BEGIN:VEVENT
UID:20200603T1418Z-1591193923.3362-EO-587-1@172.16.200.141
STATUS:CONFIRMED
DTSTAMP:20260422T174035Z
CREATED:20240529T101756Z
LAST-MODIFIED:20240529T101756Z
DTSTART;VALUE=DATE:20241212
DTEND;VALUE=DATE:20241214
SUMMARY: Die Vielfalt des Rechts (Themenoffene Tagung der Sektion Rechtssoz
 iologie der Deutschen Gesellschaft für Soziologie)
DESCRIPTION: 12.-13.12.2024 / Marburg (Einreichungsfrist: 31.8.2024) https:
 //www.soziopolis.de/fileadmin/Editorial/Calls/CfP_themenoffene_Tagung_Recht
 ssoziologie_31.8.24.pdf
X-ALT-DESC;FMTTYPE=text/html: <p>12.-13.12.2024 / Marburg <strong>(Einreich
 ungsfrist:</strong> <strong>31.8.2024)</strong></p><p><a href="https://www.
 soziopolis.de/fileadmin/Editorial/Calls/CfP_themenoffene_Tagung_Rechtssozio
 logie_31.8.24.pdf">https://www.soziopolis.de/fileadmin/Editorial/Calls/CfP_
 themenoffene_Tagung_Rechtssoziologie_31.8.24.pdf</a></p><p>[av_button label
 ='iCal-Export' link='./feed/eo-events' link_target='' size='small' position
 ='center' label_display='' title_attr='' icon_select='yes' icon='ue85b' fon
 t='entypo-fontello' color='custom' custom_bg='#b5123e' custom_font='#ffffff
 ' av_uid='' id='' custom_class='' admin_preview_bg='']</p>
CATEGORIES:Recht interdisziplinär
LOCATION:Inland
GEO:0.000000;0.000000
ORGANIZER;CN="ViFa-Recht":MAILTO:vifa-recht@sbb.spk-berlin.de
URL;VALUE=URI:https://events.intrecht.de/termine/termin/die-vielfalt-des-re
 chts-themenoffene-tagung-der-sektion-rechtssoziologie-der-deutschen-gesells
 chaft-fuer-soziologie/
END:VEVENT
BEGIN:VTIMEZONE
TZID:Europe/Berlin
BEGIN:STANDARD
TZOFFSETFROM:+0200
TZOFFSETTO:+0100
DTSTART:20241027T010000
TZNAME:CET
END:STANDARD
END:VTIMEZONE
END:VCALENDAR
