BEGIN:VCALENDAR
VERSION:2.0
PRODID:-//Events | FID-Recht//NONSGML Events//EN
CALSCALE:GREGORIAN
X-ORIGINAL-URL:https://events.intrecht.de/termine/
X-WR-CALDESC:Events | FID-Recht - Events
BEGIN:VEVENT
UID:20200603T1418Z-1591193923.3362-EO-587-1@172.16.200.141
STATUS:CONFIRMED
DTSTAMP:20260423T070919Z
CREATED:20250729T081503Z
LAST-MODIFIED:20250729T081503Z
DTSTART;VALUE=DATE:20251113
DTEND;VALUE=DATE:20251116
SUMMARY: Die Vereinten Nationen und Friedenssicherung (14. UN-Forschungskol
 loquium)
DESCRIPTION: 13.-15.11.2025 / Köln (Einreichungsfrist: 24.8.2025) https://w
 ww.juwiss.de/wp-content/uploads/2025/07/14.-un-forschungskolloquium-cfa.pdf
X-ALT-DESC;FMTTYPE=text/html: <p>13.-15.11.2025 / Köln <strong>(Einreichung
 sfrist: 24.8.2025)</strong></p><p><a href="https://www.juwiss.de/wp-content
 /uploads/2025/07/14.-un-forschungskolloquium-cfa.pdf">https://www.juwiss.de
 /wp-content/uploads/2025/07/14.-un-forschungskolloquium-cfa.pdf</a></p><p>[
 av_button label='iCal-Export' link='./feed/eo-events' link_target='' size='
 small' position='center' label_display='' title_attr='' icon_select='yes' i
 con='ue85b' font='entypo-fontello' color='custom' custom_bg='#b5123e' custo
 m_font='#ffffff' av_uid='' id='' custom_class='' admin_preview_bg='']</p>
CATEGORIES:Europäisches / Internationales Recht
LOCATION:Inland
GEO:0.000000;0.000000
ORGANIZER;CN="ViFa-Recht":MAILTO:vifa-recht@sbb.spk-berlin.de
URL;VALUE=URI:https://events.intrecht.de/termine/termin/die-vereinten-natio
 nen-und-friedenssicherung-14-un-forschungskolloquium/
END:VEVENT
BEGIN:VTIMEZONE
TZID:Europe/Berlin
BEGIN:STANDARD
TZOFFSETFROM:+0200
TZOFFSETTO:+0100
DTSTART:20251026T010000
TZNAME:CET
END:STANDARD
END:VTIMEZONE
END:VCALENDAR
