BEGIN:VCALENDAR
VERSION:2.0
PRODID:-//Events | FID-Recht//NONSGML Events//EN
CALSCALE:GREGORIAN
X-ORIGINAL-URL:https://events.intrecht.de/termine/
X-WR-CALDESC:Events | FID-Recht - Events
BEGIN:VEVENT
UID:20201217T0316Z-1608174975.8742-EO-2377-1@172.16.200.141
STATUS:CONFIRMED
DTSTAMP:20260421T102857Z
CREATED:20201123T170549Z
LAST-MODIFIED:20201123T170549Z
DTSTART;VALUE=DATE:20201201
DTEND;VALUE=DATE:20201201
SUMMARY: Die Unterbringung Geflüchteter in Deutschland und insbesondere Bay
 ern (mit Stephan Dünnwald\, Lea Gelardi und Olaf Kleist) (Online-Vortrag)
DESCRIPTION: 1.12. 2020\, Online https://www.humanrights-centre.fau.de/ring
 vorlesung-wise-20-21/  
X-ALT-DESC;FMTTYPE=text/html: <p>1.12. 2020\, Online</p><p><a href="https:/
 /www.humanrights-centre.fau.de/ringvorlesung-wise-20-21/">https://www.human
 rights-centre.fau.de/ringvorlesung-wise-20-21/</a></p><p> </p><p>[av_button
  label='iCal-Export' link='./feed/eo-events' link_target='' size='small' po
 sition='center' label_display='' title_attr='' icon_select='yes' icon='ue85
 b' font='entypo-fontello' color='custom' custom_bg='#b5123e' custom_font='#
 ffffff' av_uid='' id='' custom_class='' admin_preview_bg='']</p>
CATEGORIES:Öffentliches Recht
LOCATION:Online
GEO:0.000000;0.000000
ORGANIZER;CN="ViFa-Recht":MAILTO:vifa-recht@sbb.spk-berlin.de
URL;VALUE=URI:https://events.intrecht.de/termine/termin/die-unterbringung-g
 efluechteter-in-deutschland-und-insbesondere-bayern-mit-stephan-duennwald-l
 ea-gelardi-und-olaf-kleist-online-vortrag/
END:VEVENT
BEGIN:VTIMEZONE
TZID:Europe/Berlin
BEGIN:STANDARD
TZOFFSETFROM:+0200
TZOFFSETTO:+0100
DTSTART:20201025T010000
TZNAME:CET
END:STANDARD
END:VTIMEZONE
END:VCALENDAR
