BEGIN:VCALENDAR
VERSION:2.0
PRODID:-//Events | FID-Recht//NONSGML Events//EN
CALSCALE:GREGORIAN
X-ORIGINAL-URL:https://events.intrecht.de/termine/
X-WR-CALDESC:Events | FID-Recht - Events
BEGIN:VEVENT
UID:20221001T2326Z-1664666766.5955-EO-6369-1@172.16.200.151
STATUS:CONFIRMED
DTSTAMP:20260421T102548Z
CREATED:20220929T080853Z
LAST-MODIFIED:20220929T080853Z
DTSTART;VALUE=DATE:20221005
DTEND;VALUE=DATE:20221006
SUMMARY: Die Überlebenden vor Gericht – Auschwitz-Häftlinge als Zeugen in N
 S-Prozessen (Buchvorstellung)
DESCRIPTION: 5.10.2022\, Frankfurt am Main https://www.fritz-bauer-institut
 .de/veranstaltungen  
X-ALT-DESC;FMTTYPE=text/html: <p>5.10.2022\, Frankfurt am Main</p><p><a hre
 f="https://www.fritz-bauer-institut.de/veranstaltungen">https://www.fritz-b
 auer-institut.de/veranstaltungen</a></p><p> </p><p>[av_button label='iCal-E
 xport' link='./feed/eo-events' link_target='' size='small' position='center
 ' label_display='' title_attr='' icon_select='yes' icon='ue85b' font='entyp
 o-fontello' color='custom' custom_bg='#b5123e' custom_font='#ffffff' av_uid
 ='' id='' custom_class='' admin_preview_bg='']</p>
CATEGORIES:Recht interdisziplinär
LOCATION:Inland
GEO:0.000000;0.000000
ORGANIZER;CN="ViFa-Recht":MAILTO:vifa-recht@sbb.spk-berlin.de
URL;VALUE=URI:https://events.intrecht.de/termine/termin/die-ueberlebenden-v
 or-gericht-auschwitz-haeftlinge-als-zeugen-in-ns-prozessen-buchvorstellung/
END:VEVENT
BEGIN:VTIMEZONE
TZID:Europe/Berlin
BEGIN:DAYLIGHT
TZOFFSETFROM:+0100
TZOFFSETTO:+0200
DTSTART:20220327T010000
TZNAME:CEST
END:DAYLIGHT
END:VTIMEZONE
END:VCALENDAR
