BEGIN:VCALENDAR
VERSION:2.0
PRODID:-//Events | FID-Recht//NONSGML Events//EN
CALSCALE:GREGORIAN
X-ORIGINAL-URL:https://events.intrecht.de/termine/
X-WR-CALDESC:Events | FID-Recht - Events
BEGIN:VEVENT
UID:20201216T2105Z-1608152731.5362-EO-2321-1@172.16.200.141
STATUS:CONFIRMED
DTSTAMP:20260425T162705Z
CREATED:20201117T113952Z
LAST-MODIFIED:20201118T132729Z
DTSTART;TZID=Europe/Berlin:20201125T180000
DTEND;TZID=Europe/Berlin:20201125T200000
SUMMARY: Die Treuhandanstalt – Idee\, Arbeitsweise\, Wirkungen und Erbe (mi
 t Roland Czada) (Online-Vortrag)
DESCRIPTION: 25.11.2020\, Online https://www.jura.uni-wuerzburg.de/lehrstue
 hle/schmahl/aktuelles/meldungen/single/news/die-treuhandanstalt-idee-arbeit
 sweise-wirkungen-und-erbe/  
X-ALT-DESC;FMTTYPE=text/html: <p>25.11.2020\, Online</p><p><a href="https:/
 /www.jura.uni-wuerzburg.de/lehrstuehle/schmahl/aktuelles/meldungen/single/n
 ews/die-treuhandanstalt-idee-arbeitsweise-wirkungen-und-erbe/">https://www.
 jura.uni-wuerzburg.de/lehrstuehle/schmahl/aktuelles/meldungen/single/news/d
 ie-treuhandanstalt-idee-arbeitsweise-wirkungen-und-erbe/</a></p><p> </p><p>
 [av_button label='iCal-Export' link='./feed/eo-events' link_target='' size=
 'small' position='center' label_display='' title_attr='' icon_select='yes' 
 icon='ue85b' font='entypo-fontello' color='custom' custom_bg='#b5123e' cust
 om_font='#ffffff' av_uid='' id='' custom_class='' admin_preview_bg='']</p>
CATEGORIES:Recht interdisziplinär
LOCATION:Online
GEO:0.000000;0.000000
ORGANIZER;CN="ViFa-Recht":MAILTO:vifa-recht@sbb.spk-berlin.de
URL;VALUE=URI:https://events.intrecht.de/termine/termin/die-treuhandanstalt
 -idee-arbeitsweise-wirkungen-und-erbe-mit-roland-czada-online-vortrag/
END:VEVENT
BEGIN:VTIMEZONE
TZID:Europe/Berlin
BEGIN:STANDARD
TZOFFSETFROM:+0200
TZOFFSETTO:+0100
DTSTART:20201025T010000
TZNAME:CET
END:STANDARD
END:VTIMEZONE
END:VCALENDAR
