BEGIN:VCALENDAR
VERSION:2.0
PRODID:-//Events | FID-Recht//NONSGML Events//EN
CALSCALE:GREGORIAN
X-ORIGINAL-URL:https://events.intrecht.de/termine/
X-WR-CALDESC:Events | FID-Recht - Events
BEGIN:VEVENT
UID:20211117T2040Z-1637181600.5597-EO-4955-1@172.16.200.141
STATUS:CONFIRMED
DTSTAMP:20260421T102701Z
CREATED:20211116T225826Z
LAST-MODIFIED:20211116T225826Z
DTSTART;VALUE=DATE:20211115
DTEND;VALUE=DATE:20211116
SUMMARY: „Die Stammheim-Protokolle. Der Prozess gegen die erste RAF-Generat
 ion“ (mit Florian Jeßberger und Inga Schuchmann) ((Online-)Buchpremiere)
DESCRIPTION: 15.11.2021\, Berlin/Online Ch. Links Verlag | Veranstaltungsde
 tails (christoph-links-verlag.de)  
X-ALT-DESC;FMTTYPE=text/html: <p>15.11.2021\, Berlin/Online</p><p><a href="
 https://www.christoph-links-verlag.de/index.cfm?view=9&inhalt=veranstaltung
 &v_id=1352">Ch. Links Verlag | Veranstaltungsdetails (christoph-links-verla
 g.de)</a></p><p> </p><p>[av_button label='iCal-Export' link='./feed/eo-even
 ts' link_target='' size='small' position='center' label_display='' title_at
 tr='' icon_select='yes' icon='ue85b' font='entypo-fontello' color='custom' 
 custom_bg='#b5123e' custom_font='#ffffff' av_uid='' id='' custom_class='' a
 dmin_preview_bg='']</p>
CATEGORIES:Recht interdisziplinär
LOCATION:Online
GEO:0.000000;0.000000
ORGANIZER;CN="ViFa-Recht":MAILTO:vifa-recht@sbb.spk-berlin.de
URL;VALUE=URI:https://events.intrecht.de/termine/termin/die-stammheim-proto
 kolle-der-prozess-gegen-die-erste-raf-generation-mit-florian-jessberger-und
 -inga-schuchmann-online-buchpremiere/
END:VEVENT
BEGIN:VTIMEZONE
TZID:Europe/Berlin
BEGIN:STANDARD
TZOFFSETFROM:+0200
TZOFFSETTO:+0100
DTSTART:20211031T010000
TZNAME:CET
END:STANDARD
END:VTIMEZONE
END:VCALENDAR
