BEGIN:VCALENDAR
VERSION:2.0
PRODID:-//Events | FID-Recht//NONSGML Events//EN
CALSCALE:GREGORIAN
X-ORIGINAL-URL:https://events.intrecht.de/termine/
X-WR-CALDESC:Events | FID-Recht - Events
BEGIN:VEVENT
UID:20200603T1418Z-1591193923.3362-EO-587-1@172.16.200.141
STATUS:CONFIRMED
DTSTAMP:20260422T141310Z
CREATED:20240214T104406Z
LAST-MODIFIED:20240214T104406Z
DTSTART;VALUE=DATE:20240916
DTEND;VALUE=DATE:20240921
SUMMARY: Die Sprache der Quellen (44. Rechtshistorikertag)
DESCRIPTION: 16.-20.9.2024 / Frankfurt am Main (Einreichungsfrist: 31.3.202
 4) https://www.lhlt.mpg.de/4170977/notice-24-02-08-rechtshistorikertag
X-ALT-DESC;FMTTYPE=text/html: <p>16.-20.9.2024 / Frankfurt am Main <strong>
 (Einreichungsfrist: 31.3.2024)</strong></p><p><a href="https://www.lhlt.mpg
 .de/4170977/notice-24-02-08-rechtshistorikertag">https://www.lhlt.mpg.de/41
 70977/notice-24-02-08-rechtshistorikertag</a></p><p>[av_button label='iCal-
 Export' link='./feed/eo-events' link_target='' size='small' position='cente
 r' label_display='' title_attr='' icon_select='yes' icon='ue85b' font='enty
 po-fontello' color='custom' custom_bg='#b5123e' custom_font='#ffffff' av_ui
 d='' id='' custom_class='' admin_preview_bg='']</p>
CATEGORIES:Recht interdisziplinär
LOCATION:Inland
GEO:0.000000;0.000000
ORGANIZER;CN="ViFa-Recht":MAILTO:vifa-recht@sbb.spk-berlin.de
URL;VALUE=URI:https://events.intrecht.de/termine/termin/die-sprache-der-que
 llen-44-rechtshistorikertag/
END:VEVENT
BEGIN:VTIMEZONE
TZID:Europe/Berlin
BEGIN:DAYLIGHT
TZOFFSETFROM:+0100
TZOFFSETTO:+0200
DTSTART:20240331T010000
TZNAME:CEST
END:DAYLIGHT
END:VTIMEZONE
END:VCALENDAR
