BEGIN:VCALENDAR
VERSION:2.0
PRODID:-//Events | FID-Recht//NONSGML Events//EN
CALSCALE:GREGORIAN
X-ORIGINAL-URL:https://events.intrecht.de/termine/
X-WR-CALDESC:Events | FID-Recht - Events
BEGIN:VEVENT
UID:20221105T1314Z-1667654070.4093-EO-6914-1@172.16.200.151
STATUS:CONFIRMED
DTSTAMP:20260421T115355Z
CREATED:20221102T143900Z
LAST-MODIFIED:20221102T143951Z
DTSTART;VALUE=DATE:20221122
DTEND;VALUE=DATE:20221123
SUMMARY: Die Rolle der Krankenkassen im Strafverfahren (Tagung)
DESCRIPTION: 22.11.2022 / Online und Hamburg https://wistev.de/veranstaltun
 gen/die-rolle-der-krankenkassen-im-strafverfahren/  
X-ALT-DESC;FMTTYPE=text/html: <p>22.11.2022 / Online und Hamburg</p><p><a h
 ref="https://wistev.de/veranstaltungen/die-rolle-der-krankenkassen-im-straf
 verfahren/">https://wistev.de/veranstaltungen/die-rolle-der-krankenkassen-i
 m-strafverfahren/</a></p><p> </p><p>[av_button label='iCal-Export' link='./
 feed/eo-events' link_target='' size='small' position='center' label_display
 ='' title_attr='' icon_select='yes' icon='ue85b' font='entypo-fontello' col
 or='custom' custom_bg='#b5123e' custom_font='#ffffff' av_uid='' id='' custo
 m_class='' admin_preview_bg='']</p>
CATEGORIES:Strafrecht
LOCATION:Online
GEO:0.000000;0.000000
ORGANIZER;CN="ViFa-Recht":MAILTO:vifa-recht@sbb.spk-berlin.de
URL;VALUE=URI:https://events.intrecht.de/termine/termin/die-rolle-der-krank
 enkassen-im-strafverfahren-tagung/
END:VEVENT
BEGIN:VTIMEZONE
TZID:Europe/Berlin
BEGIN:STANDARD
TZOFFSETFROM:+0200
TZOFFSETTO:+0100
DTSTART:20221030T010000
TZNAME:CET
END:STANDARD
END:VTIMEZONE
END:VCALENDAR
