BEGIN:VCALENDAR
VERSION:2.0
PRODID:-//Events | FID-Recht//NONSGML Events//EN
CALSCALE:GREGORIAN
X-ORIGINAL-URL:https://events.intrecht.de/termine/
X-WR-CALDESC:Events | FID-Recht - Events
BEGIN:VEVENT
UID:20200603T1418Z-1591193923.3362-EO-587-1@172.16.200.141
STATUS:CONFIRMED
DTSTAMP:20260422T141308Z
CREATED:20240202T114229Z
LAST-MODIFIED:20240202T114248Z
DTSTART;VALUE=DATE:20240207
DTEND;VALUE=DATE:20240208
SUMMARY: Die Reform des Gemeinsamen Europäischen Asylsystems: Durchbruch od
 er Desaster? (Online Event)
DESCRIPTION: 7.2.2024 / Online https://www.humanrights-centre.fau.de/files/
 2024/01/CHREN_Europaeisches_Asylsystem_Flyer_web_2.pdf
X-ALT-DESC;FMTTYPE=text/html: <p>7.2.2024 / Online</p><p><a href="https://w
 ww.humanrights-centre.fau.de/files/2024/01/CHREN_Europaeisches_Asylsystem_F
 lyer_web_2.pdf">https://www.humanrights-centre.fau.de/files/2024/01/CHREN_E
 uropaeisches_Asylsystem_Flyer_web_2.pdf</a></p><p>[av_button label='iCal-Ex
 port' link='./feed/eo-events' link_target='' size='small' position='center'
  label_display='' title_attr='' icon_select='yes' icon='ue85b' font='entypo
 -fontello' color='custom' custom_bg='#b5123e' custom_font='#ffffff' av_uid=
 '' id='' custom_class='' admin_preview_bg='']</p>
CATEGORIES:Europäisches / Internationales Recht
LOCATION:Online
GEO:0.000000;0.000000
ORGANIZER;CN="ViFa-Recht":MAILTO:vifa-recht@sbb.spk-berlin.de
URL;VALUE=URI:https://events.intrecht.de/termine/termin/die-reform-des-geme
 insamen-europaeischen-asylsystems-durchbruch-oder-desaster-online-event/
END:VEVENT
BEGIN:VTIMEZONE
TZID:Europe/Berlin
BEGIN:STANDARD
TZOFFSETFROM:+0200
TZOFFSETTO:+0100
DTSTART:20231029T010000
TZNAME:CET
END:STANDARD
END:VTIMEZONE
END:VCALENDAR
