BEGIN:VCALENDAR
VERSION:2.0
PRODID:-//Events | FID-Recht//NONSGML Events//EN
CALSCALE:GREGORIAN
X-ORIGINAL-URL:https://events.intrecht.de/termine/
X-WR-CALDESC:Events | FID-Recht - Events
BEGIN:VEVENT
UID:20200715T1008Z-1594807717.933-EO-998-1@172.16.200.141
STATUS:CONFIRMED
DTSTAMP:20260421T115505Z
CREATED:20200616T101903Z
LAST-MODIFIED:20210728T151318Z
DTSTART;VALUE=DATE:20210506
DTEND;VALUE=DATE:20210508
SUMMARY: VERSCHOBEN: Die Rechtsordnung Elsass-Lothringens / Le système juri
 dique de l’Alsace-Lorraine (Konferenz)
DESCRIPTION: UPDATE (28.7.2021): verschoben auf Oktober 2021 und umbenannt\
 , siehe Elsaß-Lothringen als juristisches Laboratorium /// Alsace-Lorraine 
 – un laboratoire de droit (Tagung) – Events | FID-Recht (vifa-recht.de) 6.-
 7.5.2021\, Regensburg (Frist für Einreichungen: 30.9.2020) CfP Elsass Lothr
 ingen https://www.hsozkult.de/event/id/termine-42990  
X-ALT-DESC;FMTTYPE=text/html: <p>UPDATE (28.7.2021): verschoben auf Oktober
  2021 und umbenannt\, siehe <a href="https://events.intrecht.de/termine/ter
 min/elsass-lothringen-als-juristisches-laboratorium-alsace-lorraine-un-labo
 ratoire-de-droit-tagung/">Elsaß-Lothringen als juristisches Laboratorium //
 / Alsace-Lorraine – un laboratoire de droit (Tagung) – Events | FID-Recht (
 vifa-recht.de)</a></p><p><span style="display: inline !important\; float: n
 one\; background-color: #ffffff\; color: #333333\; cursor: text\; font-fami
 ly: Georgia\,'Times New Roman'\,'Bitstream Charter'\,Times\,serif\; font-si
 ze: 16px\; font-style: normal\; font-variant: normal\; font-weight: 400\; l
 etter-spacing: normal\; orphans: 2\; text-align: left\; text-decoration: no
 ne\; text-indent: 0px\; text-transform: none\; -webkit-text-stroke-width: 0
 px\; white-space: normal\; word-spacing: 0px\;">6.-7.5.2021\, Regensburg (F
 rist für Einreichungen: 30.9.2020)</span></p><p><a href="https://events.int
 recht.de/wp-content/uploads/2020/06/CfP-Elsass-Lothringen.docx">CfP Elsass 
 Lothringen</a></p><p><a href="https://www.hsozkult.de/event/id/termine-4299
 0">https://www.hsozkult.de/event/id/termine-42990</a></p><p> </p><p>[av_but
 ton label='iCal-Export' link='./feed/eo-events' link_target='' size='small'
  position='center' label_display='' title_attr='' icon_select='yes' icon='u
 e85b' font='entypo-fontello' color='custom' custom_bg='#b5123e' custom_font
 ='#ffffff' av_uid='' id='' custom_class='' admin_preview_bg='']</p>
CATEGORIES:Recht interdisziplinär
LOCATION:Inland
GEO:0.000000;0.000000
ORGANIZER;CN="ViFa-Recht":MAILTO:vifa-recht@sbb.spk-berlin.de
URL;VALUE=URI:https://events.intrecht.de/termine/termin/die-rechtsordnung-e
 lsass-lothringens-le-systeme-juridique-de-lalsace-lorraine-konferenz/
END:VEVENT
BEGIN:VTIMEZONE
TZID:Europe/Berlin
BEGIN:DAYLIGHT
TZOFFSETFROM:+0100
TZOFFSETTO:+0200
DTSTART:20210328T010000
TZNAME:CEST
END:DAYLIGHT
END:VTIMEZONE
END:VCALENDAR
