BEGIN:VCALENDAR
VERSION:2.0
PRODID:-//Events | FID-Recht//NONSGML Events//EN
CALSCALE:GREGORIAN
X-ORIGINAL-URL:https://events.intrecht.de/termine/
X-WR-CALDESC:Events | FID-Recht - Events
BEGIN:VEVENT
UID:20200603T1418Z-1591193923.3362-EO-587-1@172.16.200.141
STATUS:CONFIRMED
DTSTAMP:20260426T022857Z
CREATED:20230504T083157Z
LAST-MODIFIED:20230504T083313Z
DTSTART;VALUE=DATE:20230509
DTEND;VALUE=DATE:20230510
SUMMARY: Die politischen Effekte der Rechte der Natur in Ecuador: Normative
  Grundlagen und empirische Einblicke (Vortrag)
DESCRIPTION: 9.5.2023 / Online und Berlin https://www.rewi.hu-berlin.de/de/
 lf/oe/lsi/termine/die-politischen-effekte-der-rechte-der-natur-in-ecuador-n
 ormative-grundlagen-und-empirische-einblicke-vortrag-mit-laura-affolter-ham
 burger-institut-fuer-sozialforschung
X-ALT-DESC;FMTTYPE=text/html: <p>9.5.2023 / Online und Berlin</p><p><a href
 ="https://www.rewi.hu-berlin.de/de/lf/oe/lsi/termine/die-politischen-effekt
 e-der-rechte-der-natur-in-ecuador-normative-grundlagen-und-empirische-einbl
 icke-vortrag-mit-laura-affolter-hamburger-institut-fuer-sozialforschung">ht
 tps://www.rewi.hu-berlin.de/de/lf/oe/lsi/termine/die-politischen-effekte-de
 r-rechte-der-natur-in-ecuador-normative-grundlagen-und-empirische-einblicke
 -vortrag-mit-laura-affolter-hamburger-institut-fuer-sozialforschung</a></p>
 <p>[av_button label='iCal-Export' link='./feed/eo-events' link_target='' si
 ze='small' position='center' label_display='' title_attr='' icon_select='ye
 s' icon='ue85b' font='entypo-fontello' color='custom' custom_bg='#b5123e' c
 ustom_font='#ffffff' av_uid='' id='' custom_class='' admin_preview_bg='']</
 p>
CATEGORIES:Recht interdisziplinär
LOCATION:Online
GEO:0.000000;0.000000
ORGANIZER;CN="ViFa-Recht":MAILTO:vifa-recht@sbb.spk-berlin.de
URL;VALUE=URI:https://events.intrecht.de/termine/termin/die-politischen-eff
 ekte-der-rechte-der-natur-in-ecuador-normative-grundlagen-und-empirische-ei
 nblicke-vortrag-2/
END:VEVENT
BEGIN:VTIMEZONE
TZID:Europe/Berlin
BEGIN:DAYLIGHT
TZOFFSETFROM:+0100
TZOFFSETTO:+0200
DTSTART:20230326T010000
TZNAME:CEST
END:DAYLIGHT
END:VTIMEZONE
END:VCALENDAR
