BEGIN:VCALENDAR
VERSION:2.0
PRODID:-//Events | FID-Recht//NONSGML Events//EN
CALSCALE:GREGORIAN
X-ORIGINAL-URL:https://events.intrecht.de/termine/
X-WR-CALDESC:Events | FID-Recht - Events
BEGIN:VEVENT
UID:20201216T1844Z-1608144290.5929-EO-2628-1@172.16.200.141
STATUS:CONFIRMED
DTSTAMP:20260422T143500Z
CREATED:20201201T180615Z
LAST-MODIFIED:20201201T180615Z
DTSTART;VALUE=DATE:20201202
DTEND;VALUE=DATE:20201202
SUMMARY: Die Notstandsverfassung von 1968 – die Geschichte einer umkämpften
  Verfassungsänderung (mit Christian Hillgruber) (Online-Vortrag)
DESCRIPTION:  2.12.2020\, Online digitaler Dies academicus 02.12.2020 — Uni
 versität Bonn (uni-bonn.de)  
X-ALT-DESC;FMTTYPE=text/html: <p><strong> </strong>2.12.2020\, Online</p><p
 ><a href="https://www.uni-bonn.de/studium/studium-universale/dies-academicu
 s">digitaler Dies academicus 02.12.2020 — Universität Bonn (uni-bonn.de)</a
 ></p><p> </p><p>[av_button label='iCal-Export' link='./feed/eo-events' link
 _target='' size='small' position='center' label_display='' title_attr='' ic
 on_select='yes' icon='ue85b' font='entypo-fontello' color='custom' custom_b
 g='#b5123e' custom_font='#ffffff' av_uid='' id='' custom_class='' admin_pre
 view_bg='']</p>
CATEGORIES:Öffentliches Recht
LOCATION:Online
GEO:0.000000;0.000000
ORGANIZER;CN="ViFa-Recht":MAILTO:vifa-recht@sbb.spk-berlin.de
URL;VALUE=URI:https://events.intrecht.de/termine/termin/die-notstandsverfas
 sung-von-1968-die-geschichte-einer-umkaempften-verfassungsaenderung-mit-chr
 istian-hillgruber-online-vortrag/
END:VEVENT
BEGIN:VTIMEZONE
TZID:Europe/Berlin
BEGIN:STANDARD
TZOFFSETFROM:+0200
TZOFFSETTO:+0100
DTSTART:20201025T010000
TZNAME:CET
END:STANDARD
END:VTIMEZONE
END:VCALENDAR
