BEGIN:VCALENDAR
VERSION:2.0
PRODID:-//Events | FID-Recht//NONSGML Events//EN
CALSCALE:GREGORIAN
X-ORIGINAL-URL:https://events.intrecht.de/termine/
X-WR-CALDESC:Events | FID-Recht - Events
BEGIN:VEVENT
UID:20210814T2225Z-1628979946.9724-EO-4369-1@172.16.200.141
STATUS:CONFIRMED
DTSTAMP:20260421T170342Z
CREATED:20210812T130345Z
LAST-MODIFIED:20210812T130345Z
DTSTART;VALUE=DATE:20210823
DTEND;VALUE=DATE:20210824
SUMMARY: Die Landesgründung Schleswig-Holsteins im Jahr 1946. Verfassungsre
 chtliche und historische Aspekte eines demokratischen Experiments (Tagung)
DESCRIPTION: 23.8.2021\, Kiel Die Landesgründung Schleswig-Holsteins im Jah
 r 1946. Verfassungsrechtliche und historische Aspekte eines demokratischen 
 Experiments | H-Soz-Kult. Kommunikation und Fachinformation für die Geschic
 htswissenschaften | Geschichte im Netz | History in the web (hsozkult.de)  
X-ALT-DESC;FMTTYPE=text/html: <p>23.8.2021\, Kiel</p><p><a href="https://ww
 w.hsozkult.de/event/id/event-112165">Die Landesgründung Schleswig-Holsteins
  im Jahr 1946. Verfassungsrechtliche und historische Aspekte eines demokrat
 ischen Experiments | H-Soz-Kult. Kommunikation und Fachinformation für die 
 Geschichtswissenschaften | Geschichte im Netz | History in the web (hsozkul
 t.de)</a></p><p> </p><p>[av_button label='iCal-Export' link='./feed/eo-even
 ts' link_target='' size='small' position='center' label_display='' title_at
 tr='' icon_select='yes' icon='ue85b' font='entypo-fontello' color='custom' 
 custom_bg='#b5123e' custom_font='#ffffff' av_uid='' id='' custom_class='' a
 dmin_preview_bg='']</p>
CATEGORIES:Öffentliches Recht,Recht interdisziplinär
LOCATION:Inland
GEO:0.000000;0.000000
ORGANIZER;CN="ViFa-Recht":MAILTO:vifa-recht@sbb.spk-berlin.de
URL;VALUE=URI:https://events.intrecht.de/termine/termin/die-landesgruendung
 -schleswig-holsteins-im-jahr-1946-verfassungsrechtliche-und-historische-asp
 ekte-eines-demokratischen-experiments-tagung/
END:VEVENT
BEGIN:VTIMEZONE
TZID:Europe/Berlin
BEGIN:DAYLIGHT
TZOFFSETFROM:+0100
TZOFFSETTO:+0200
DTSTART:20210328T010000
TZNAME:CEST
END:DAYLIGHT
END:VTIMEZONE
END:VCALENDAR
