BEGIN:VCALENDAR
VERSION:2.0
PRODID:-//Events | FID-Recht//NONSGML Events//EN
CALSCALE:GREGORIAN
X-ORIGINAL-URL:https://events.intrecht.de/termine/
X-WR-CALDESC:Events | FID-Recht - Events
BEGIN:VEVENT
UID:20200603T1418Z-1591193923.3362-EO-587-1@172.16.200.141
STATUS:CONFIRMED
DTSTAMP:20260425T163601Z
CREATED:20231112T144410Z
LAST-MODIFIED:20231112T144410Z
DTSTART;VALUE=DATE:20231129
DTEND;VALUE=DATE:20231130
SUMMARY: Die Konstitution des Klimas\, oder: Was Verfassungsgerichte (nicht
 ) zu sagen haben (Vortrag)
DESCRIPTION: 29.11.2023 / Online und Frankfurt am Main https://contrust.uni
 -frankfurt.de/event/die-konstitution-des-klimas-oder-was-verfassungsgericht
 e-nicht-zu-sagen-haben/
X-ALT-DESC;FMTTYPE=text/html: <p>29.11.2023 / Online und Frankfurt am Main<
 /p><p><a href="https://contrust.uni-frankfurt.de/event/die-konstitution-des
 -klimas-oder-was-verfassungsgerichte-nicht-zu-sagen-haben/">https://contrus
 t.uni-frankfurt.de/event/die-konstitution-des-klimas-oder-was-verfassungsge
 richte-nicht-zu-sagen-haben/</a></p><p>[av_button label='iCal-Export' link=
 './feed/eo-events' link_target='' size='small' position='center' label_disp
 lay='' title_attr='' icon_select='yes' icon='ue85b' font='entypo-fontello' 
 color='custom' custom_bg='#b5123e' custom_font='#ffffff' av_uid='' id='' cu
 stom_class='' admin_preview_bg='']</p>
CATEGORIES:Öffentliches Recht
LOCATION:Online
GEO:0.000000;0.000000
ORGANIZER;CN="ViFa-Recht":MAILTO:vifa-recht@sbb.spk-berlin.de
URL;VALUE=URI:https://events.intrecht.de/termine/termin/die-konstitution-de
 s-klimas-oder-was-verfassungsgerichte-nicht-zu-sagen-haben-vortrag/
END:VEVENT
BEGIN:VTIMEZONE
TZID:Europe/Berlin
BEGIN:STANDARD
TZOFFSETFROM:+0200
TZOFFSETTO:+0100
DTSTART:20231029T010000
TZNAME:CET
END:STANDARD
END:VTIMEZONE
END:VCALENDAR
