BEGIN:VCALENDAR
VERSION:2.0
PRODID:-//Events | FID-Recht//NONSGML Events//EN
CALSCALE:GREGORIAN
X-ORIGINAL-URL:https://events.intrecht.de/termine/
X-WR-CALDESC:Events | FID-Recht - Events
BEGIN:VEVENT
UID:20210327T0632Z-1616826727.4618-EO-2293-1@172.16.200.141
STATUS:CONFIRMED
DTSTAMP:20260422T161018Z
CREATED:20210317T170930Z
LAST-MODIFIED:20210317T170937Z
DTSTART;VALUE=DATE:20210311
DTEND;VALUE=DATE:20210313
SUMMARY: Die Grundlagen der Menschenrechte: moralisch\, politisch oder sozi
 al? (Tagung der Sektion Politische Theorie und Ideengeschichte der DVPW) (O
 nline-Konferenz)
DESCRIPTION: 11.-12.3.2021\, Online https://tu-dresden.de/gsw/der-bereich/t
 ermine/die-grundlagen-der-menschenrechte-moralisch-politisch-oder-sozial-fr
 uehjahrstagung-der-dvpw-sektion-politische-theorie-und-ideengeschichte  
X-ALT-DESC;FMTTYPE=text/html: <p>11.-12.3.2021\, Online</p><p><a href="http
 s://tu-dresden.de/gsw/der-bereich/termine/die-grundlagen-der-menschenrechte
 -moralisch-politisch-oder-sozial-fruehjahrstagung-der-dvpw-sektion-politisc
 he-theorie-und-ideengeschichte">https://tu-dresden.de/gsw/der-bereich/termi
 ne/die-grundlagen-der-menschenrechte-moralisch-politisch-oder-sozial-fruehj
 ahrstagung-der-dvpw-sektion-politische-theorie-und-ideengeschichte</a></p><
 p> </p><p>[av_button label='iCal-Export' link='./feed/eo-events' link_targe
 t='' size='small' position='center' label_display='' title_attr='' icon_sel
 ect='yes' icon='ue85b' font='entypo-fontello' color='custom' custom_bg='#b5
 123e' custom_font='#ffffff' av_uid='' id='' custom_class='' admin_preview_b
 g='']</p>
CATEGORIES:Recht interdisziplinär
LOCATION:Online
GEO:0.000000;0.000000
ORGANIZER;CN="ViFa-Recht":MAILTO:vifa-recht@sbb.spk-berlin.de
URL;VALUE=URI:https://events.intrecht.de/termine/termin/die-grundlagen-der-
 menschenrechte-moralisch-politisch-oder-sozial-tagung-der-sektion-politisch
 e-theorie-und-ideengeschichte-der-dvpw-online-konferenz/
END:VEVENT
BEGIN:VTIMEZONE
TZID:Europe/Berlin
BEGIN:STANDARD
TZOFFSETFROM:+0200
TZOFFSETTO:+0100
DTSTART:20201025T010000
TZNAME:CET
END:STANDARD
END:VTIMEZONE
END:VCALENDAR
