BEGIN:VCALENDAR
VERSION:2.0
PRODID:-//Events | FID-Recht//NONSGML Events//EN
CALSCALE:GREGORIAN
X-ORIGINAL-URL:https://events.intrecht.de/termine/
X-WR-CALDESC:Events | FID-Recht - Events
BEGIN:VEVENT
UID:20200603T1418Z-1591193923.3362-EO-587-1@172.16.200.141
STATUS:CONFIRMED
DTSTAMP:20260423T055220Z
CREATED:20250423T131016Z
LAST-MODIFIED:20250423T131016Z
DTSTART;VALUE=DATE:20250522
DTEND;VALUE=DATE:20250524
SUMMARY: Die granulare Datengesellschaft als Rechtstatsache – Welche Dateni
 nfrastruktur braucht die Digitalisierung des Rechts? (Tagung)
DESCRIPTION: 22.-23.5.2025 / Osnabrück https://www.elsi.uni-osnabrueck.de/f
 ileadmin/LS_Busch/Konferenzprogramm_Granulare_Datengesellschaft_als_Rechtst
 atsache_final.pdf
X-ALT-DESC;FMTTYPE=text/html: <p>22.-23.5.2025 / Osnabrück</p><p><a href="h
 ttps://www.elsi.uni-osnabrueck.de/fileadmin/LS_Busch/Konferenzprogramm_Gran
 ulare_Datengesellschaft_als_Rechtstatsache_final.pdf">https://www.elsi.uni-
 osnabrueck.de/fileadmin/LS_Busch/Konferenzprogramm_Granulare_Datengesellsch
 aft_als_Rechtstatsache_final.pdf</a></p><p>[av_button label='iCal-Export' l
 ink='./feed/eo-events' link_target='' size='small' position='center' label_
 display='' title_attr='' icon_select='yes' icon='ue85b' font='entypo-fontel
 lo' color='custom' custom_bg='#b5123e' custom_font='#ffffff' av_uid='' id='
 ' custom_class='' admin_preview_bg='']</p>
CATEGORIES:Recht interdisziplinär
LOCATION:Inland
GEO:0.000000;0.000000
ORGANIZER;CN="ViFa-Recht":MAILTO:vifa-recht@sbb.spk-berlin.de
URL;VALUE=URI:https://events.intrecht.de/termine/termin/die-granulare-daten
 gesellschaft-als-rechtstatsache-welche-dateninfrastruktur-braucht-die-digit
 alisierung-des-rechts-tagung/
END:VEVENT
BEGIN:VTIMEZONE
TZID:Europe/Berlin
BEGIN:DAYLIGHT
TZOFFSETFROM:+0100
TZOFFSETTO:+0200
DTSTART:20250330T010000
TZNAME:CEST
END:DAYLIGHT
END:VTIMEZONE
END:VCALENDAR
