BEGIN:VCALENDAR
VERSION:2.0
PRODID:-//Events | FID-Recht//NONSGML Events//EN
CALSCALE:GREGORIAN
X-ORIGINAL-URL:https://events.intrecht.de/termine/
X-WR-CALDESC:Events | FID-Recht - Events
BEGIN:VEVENT
UID:20200603T1418Z-1591193923.3362-EO-587-1@172.16.200.141
STATUS:CONFIRMED
DTSTAMP:20260422T110323Z
CREATED:20231219T120159Z
LAST-MODIFIED:20231219T120159Z
DTSTART;VALUE=DATE:20240124
DTEND;VALUE=DATE:20240125
SUMMARY: Die europäische Idee. Das Friedensprojekt Europa (Vortrag)
DESCRIPTION: 24.1.2024 / Frankfurt (Oder) https://www.borders-in-motion.de/
 de/veranstaltungen/veranstaltungskalender/20240124-Gastvortrag-Inken-Gallne
 r/index.html
X-ALT-DESC;FMTTYPE=text/html: <p>24.1.2024 / Frankfurt (Oder)</p><p><a href
 ="https://www.borders-in-motion.de/de/veranstaltungen/veranstaltungskalende
 r/20240124-Gastvortrag-Inken-Gallner/index.html">https://www.borders-in-mot
 ion.de/de/veranstaltungen/veranstaltungskalender/20240124-Gastvortrag-Inken
 -Gallner/index.html</a></p><p>[av_button label='iCal-Export' link='./feed/e
 o-events' link_target='' size='small' position='center' label_display='' ti
 tle_attr='' icon_select='yes' icon='ue85b' font='entypo-fontello' color='cu
 stom' custom_bg='#b5123e' custom_font='#ffffff' av_uid='' id='' custom_clas
 s='' admin_preview_bg='']</p>
CATEGORIES:Europäisches / Internationales Recht
LOCATION:Inland
GEO:0.000000;0.000000
ORGANIZER;CN="ViFa-Recht":MAILTO:vifa-recht@sbb.spk-berlin.de
URL;VALUE=URI:https://events.intrecht.de/termine/termin/die-europaeische-id
 ee-das-friedensprojekt-europa-vortrag/
END:VEVENT
BEGIN:VTIMEZONE
TZID:Europe/Berlin
BEGIN:STANDARD
TZOFFSETFROM:+0200
TZOFFSETTO:+0100
DTSTART:20231029T010000
TZNAME:CET
END:STANDARD
END:VTIMEZONE
END:VCALENDAR
