BEGIN:VCALENDAR
VERSION:2.0
PRODID:-//Events | FID-Recht//NONSGML Events//EN
CALSCALE:GREGORIAN
X-ORIGINAL-URL:https://events.intrecht.de/termine/
X-WR-CALDESC:Events | FID-Recht - Events
BEGIN:VEVENT
UID:20230416T0034Z-1681605279.4771-EO-8248-1@172.16.200.151
STATUS:CONFIRMED
DTSTAMP:20260425T164857Z
CREATED:20230206T113724Z
LAST-MODIFIED:20230206T113724Z
DTSTART;VALUE=DATE:20230331
DTEND;VALUE=DATE:20230402
SUMMARY: Die europäische Bedeutung der Internationalen Kriminalistischen Ve
 reinigung (IKV) 1889 – 1919 (Internationale Tagung)
DESCRIPTION: 31.3.-1.4.2023 / Augsburg (Anmeldefrist: 10.3.2023) https://ww
 w.uni-augsburg.de/de/fakultaet/jura/lehrende/koch_arnd/internationale-tagun
 g/  
X-ALT-DESC;FMTTYPE=text/html: <p>31.3.-1.4.2023 / Augsburg <strong>(Anmelde
 frist: 10.3.2023)</strong></p><p><a href="https://www.uni-augsburg.de/de/fa
 kultaet/jura/lehrende/koch_arnd/internationale-tagung/">https://www.uni-aug
 sburg.de/de/fakultaet/jura/lehrende/koch_arnd/internationale-tagung/</a></p
 ><p> </p><p>[av_button label='iCal-Export' link='./feed/eo-events' link_tar
 get='' size='small' position='center' label_display='' title_attr='' icon_s
 elect='yes' icon='ue85b' font='entypo-fontello' color='custom' custom_bg='#
 b5123e' custom_font='#ffffff' av_uid='' id='' custom_class='' admin_preview
 _bg='']</p>
CATEGORIES:Europäisches / Internationales Recht
LOCATION:Inland
GEO:0.000000;0.000000
ORGANIZER;CN="ViFa-Recht":MAILTO:vifa-recht@sbb.spk-berlin.de
URL;VALUE=URI:https://events.intrecht.de/termine/termin/die-europaeische-be
 deutung-der-internationalen-kriminalistischen-vereinigung-ikv-1889-1919-int
 ernationale-tagung/
END:VEVENT
BEGIN:VTIMEZONE
TZID:Europe/Berlin
BEGIN:DAYLIGHT
TZOFFSETFROM:+0100
TZOFFSETTO:+0200
DTSTART:20230326T010000
TZNAME:CEST
END:DAYLIGHT
END:VTIMEZONE
END:VCALENDAR
