BEGIN:VCALENDAR
VERSION:2.0
PRODID:-//Events | FID-Recht//NONSGML Events//EN
CALSCALE:GREGORIAN
X-ORIGINAL-URL:https://events.intrecht.de/termine/
X-WR-CALDESC:Events | FID-Recht - Events
BEGIN:VEVENT
UID:20201010T1545Z-1602344710.0798-EO-1037-1@172.16.200.141
STATUS:CONFIRMED
DTSTAMP:20260422T161049Z
CREATED:20201007T134655Z
LAST-MODIFIED:20201007T134843Z
DTSTART;VALUE=DATE:20201103
DTEND;VALUE=DATE:20201103
SUMMARY: Die „Benin-Bronzen“. Die Globalisierung des kolonialen Kunstraubs 
 – Becoming an Emblem. Von kolonialer Unterdrückung zu dekolonialer Gegenbew
 egung. Eine diskursanalytische Untersuchung der „Benin-Bronzen“ (mit Isabel
  Eiser) (Vortrag)
DESCRIPTION:  3.11.2020\, Online https://www.ghil.ac.uk/calendar_of_events/
 events_at_the_ghil.html  
X-ALT-DESC;FMTTYPE=text/html: <p><strong> </strong>3.11.2020\, Online</p><p
 ><a href="https://www.ghil.ac.uk/calendar_of_events/events_at_the_ghil.html
 ">https://www.ghil.ac.uk/calendar_of_events/events_at_the_ghil.html</a></p>
 <p> </p><p>[av_button label='iCal-Export' link='./feed/eo-events' link_targ
 et='' size='small' position='center' label_display='' title_attr='' icon_se
 lect='yes' icon='ue85b' font='entypo-fontello' color='custom' custom_bg='#b
 5123e' custom_font='#ffffff' av_uid='' id='' custom_class='' admin_preview_
 bg='']</p>
CATEGORIES:Europäisches / Internationales Recht,Recht interdisziplinär
LOCATION:Online
GEO:0.000000;0.000000
ORGANIZER;CN="ViFa-Recht":MAILTO:vifa-recht@sbb.spk-berlin.de
URL;VALUE=URI:https://events.intrecht.de/termine/termin/die-benin-bronzen-d
 ie-globalisierung-des-kolonialen-kunstraubs-becoming-an-emblem-von-kolonial
 er-unterdrueckung-zu-dekolonialer-gegenbewegung-eine-diskursanalytische-unt
 ersuchung-der-benin/
END:VEVENT
BEGIN:VTIMEZONE
TZID:Europe/Berlin
BEGIN:STANDARD
TZOFFSETFROM:+0200
TZOFFSETTO:+0100
DTSTART:20201025T010000
TZNAME:CET
END:STANDARD
END:VTIMEZONE
END:VCALENDAR
