BEGIN:VCALENDAR
VERSION:2.0
PRODID:-//Events | FID-Recht//NONSGML Events//EN
CALSCALE:GREGORIAN
X-ORIGINAL-URL:https://events.intrecht.de/termine/
X-WR-CALDESC:Events | FID-Recht - Events
BEGIN:VEVENT
UID:20201217T0121Z-1608168109.9481-EO-2566-1@172.16.200.141
STATUS:CONFIRMED
DTSTAMP:20260420T112957Z
CREATED:20201201T181153Z
LAST-MODIFIED:20201201T181153Z
DTSTART;VALUE=DATE:20201203
DTEND;VALUE=DATE:20201203
SUMMARY: Die Augenbinde der Justitia – Grundlagentheoretische Überlegungen 
 zu Recht und Klima (BAKJ-Kongress 2020\, mit Sabrina Zucca-Soest) (Online-V
 ortrag)
DESCRIPTION: 3.12.2020\, online https://klimaundrecht.bakj.de/  
X-ALT-DESC;FMTTYPE=text/html: <p>3.12.2020\, online</p><p><a href="https://
 klimaundrecht.bakj.de/">https://klimaundrecht.bakj.de/</a></p><p> </p><p>[a
 v_button label='iCal-Export' link='./feed/eo-events' link_target='' size='s
 mall' position='center' label_display='' title_attr='' icon_select='yes' ic
 on='ue85b' font='entypo-fontello' color='custom' custom_bg='#b5123e' custom
 _font='#ffffff' av_uid='' id='' custom_class='' admin_preview_bg='']</p>
CATEGORIES:Öffentliches Recht,Recht interdisziplinär
LOCATION:Online
GEO:0.000000;0.000000
ORGANIZER;CN="ViFa-Recht":MAILTO:vifa-recht@sbb.spk-berlin.de
URL;VALUE=URI:https://events.intrecht.de/termine/termin/die-augenbinde-der-
 justitia-grundlagentheoretische-ueberlegungen-zu-recht-und-klima-bakj-kongr
 ess-2020-mit-sabrina-zucca-soest-online-vortrag/
END:VEVENT
BEGIN:VTIMEZONE
TZID:Europe/Berlin
BEGIN:STANDARD
TZOFFSETFROM:+0200
TZOFFSETTO:+0100
DTSTART:20201025T010000
TZNAME:CET
END:STANDARD
END:VTIMEZONE
END:VCALENDAR
