BEGIN:VCALENDAR
VERSION:2.0
PRODID:-//Events | FID-Recht//NONSGML Events//EN
CALSCALE:GREGORIAN
X-ORIGINAL-URL:https://events.intrecht.de/termine/
X-WR-CALDESC:Events | FID-Recht - Events
BEGIN:VEVENT
UID:20200603T1418Z-1591193923.3362-EO-587-1@172.16.200.141
STATUS:CONFIRMED
DTSTAMP:20260423T020937Z
CREATED:20250218T090407Z
LAST-MODIFIED:20250218T090407Z
DTSTART;VALUE=DATE:20251205
DTEND;VALUE=DATE:20251207
SUMMARY: Die Arbeiten der Großen Strafrechtskommission – Eine strafrechtlic
 he Betrachtung aus Anlass des 50-jährigen Jubiläums der Großen Strafrechtsr
 eform (Tagung)
DESCRIPTION: 5.-6.12.2025 / Hamburg (Einreichungsfrist: 1.5.2025) https://j
 uraboard.blogs.uni-hamburg.de/2025/01/24/call-for-papers-fuer-die-tagung-di
 e-arbeiten-der-grossen-strafrechtskommission/
X-ALT-DESC;FMTTYPE=text/html: <p>5.-6.12.2025 / Hamburg <strong>(Einreichun
 gsfrist: 1.5.2025)</strong></p><p><a href="https://juraboard.blogs.uni-hamb
 urg.de/2025/01/24/call-for-papers-fuer-die-tagung-die-arbeiten-der-grossen-
 strafrechtskommission/">https://juraboard.blogs.uni-hamburg.de/2025/01/24/c
 all-for-papers-fuer-die-tagung-die-arbeiten-der-grossen-strafrechtskommissi
 on/</a></p><p>[av_button label='iCal-Export' link='./feed/eo-events' link_t
 arget='' size='small' position='center' label_display='' title_attr='' icon
 _select='yes' icon='ue85b' font='entypo-fontello' color='custom' custom_bg=
 '#b5123e' custom_font='#ffffff' av_uid='' id='' custom_class='' admin_previ
 ew_bg='']</p>
CATEGORIES:Strafrecht
LOCATION:Inland
GEO:0.000000;0.000000
ORGANIZER;CN="ViFa-Recht":MAILTO:vifa-recht@sbb.spk-berlin.de
URL;VALUE=URI:https://events.intrecht.de/termine/termin/die-arbeiten-der-gr
 ossen-strafrechtskommission-eine-strafrechtliche-betrachtung-aus-anlass-des
 -50-jaehrigen-jubilaeums-der-grossen-strafrechtsreform-tagung/
END:VEVENT
BEGIN:VTIMEZONE
TZID:Europe/Berlin
BEGIN:STANDARD
TZOFFSETFROM:+0200
TZOFFSETTO:+0100
DTSTART:20251026T010000
TZNAME:CET
END:STANDARD
END:VTIMEZONE
END:VCALENDAR
