BEGIN:VCALENDAR
VERSION:2.0
PRODID:-//Events | FID-Recht//NONSGML Events//EN
CALSCALE:GREGORIAN
X-ORIGINAL-URL:https://events.intrecht.de/termine/
X-WR-CALDESC:Events | FID-Recht - Events
BEGIN:VEVENT
UID:20220627T0031Z-1656289891.5287-EO-7169-1@172.16.200.151
STATUS:CONFIRMED
DTSTAMP:20260421T133436Z
CREATED:20220623T170611Z
LAST-MODIFIED:20220623T170611Z
DTSTART;VALUE=DATE:20230323
DTEND;VALUE=DATE:20230325
SUMMARY: Die Achtung des Fremden – Leerformel oder Leitprinzip im Internati
 onalen Privatrecht? (4. IPR-Nachwuchstagung)
DESCRIPTION: 23.-24.3.2023\, Wien (Frist für Einreichungen: 12.9.2022) Tagu
 ng Internationales Privatrecht | Sigmund Freud PrivatUniversität (sfu.ac.at
 )  
X-ALT-DESC;FMTTYPE=text/html: <p>23.-24.3.2023\, Wien (Frist für Einreichun
 gen: 12.9.2022)</p><p><a href="https://jus.sfu.ac.at/de/forschung-fakultaet
 -fuer-rechtswissenschaften/tagung-internationales-privatrecht/">Tagung Inte
 rnationales Privatrecht | Sigmund Freud PrivatUniversität (sfu.ac.at)</a></
 p><p> </p><p>[av_button label='iCal-Export' link='./feed/eo-events' link_ta
 rget='' size='small' position='center' label_display='' title_attr='' icon_
 select='yes' icon='ue85b' font='entypo-fontello' color='custom' custom_bg='
 #b5123e' custom_font='#ffffff' av_uid='' id='' custom_class='' admin_previe
 w_bg='']</p>
CATEGORIES:Zivilrecht
LOCATION:Ausland
GEO:0.000000;0.000000
ORGANIZER;CN="ViFa-Recht":MAILTO:vifa-recht@sbb.spk-berlin.de
URL;VALUE=URI:https://events.intrecht.de/termine/termin/die-achtung-des-fre
 mden-leerformel-oder-leitprinzip-im-internationalen-privatrecht-4-ipr-nachw
 uchstagung/
END:VEVENT
BEGIN:VTIMEZONE
TZID:Europe/Berlin
BEGIN:STANDARD
TZOFFSETFROM:+0200
TZOFFSETTO:+0100
DTSTART:20221030T010000
TZNAME:CET
END:STANDARD
END:VTIMEZONE
END:VCALENDAR
