BEGIN:VCALENDAR
VERSION:2.0
PRODID:-//Events | FID-Recht//NONSGML Events//EN
CALSCALE:GREGORIAN
X-ORIGINAL-URL:https://events.intrecht.de/termine/
X-WR-CALDESC:Events | FID-Recht - Events
BEGIN:VEVENT
UID:20220626T1901Z-1656270062.1431-EO-4308-1@172.16.200.151
STATUS:CONFIRMED
DTSTAMP:20260421T102707Z
CREATED:20220623T170447Z
LAST-MODIFIED:20220623T170512Z
DTSTART;VALUE=DATE:20220912
DTEND;VALUE=DATE:20220912
SUMMARY: Die Achtung des Fremden – Leerformel oder Leitprinzip im Internati
 onalen Privatrecht? (4. IPR-Nachwuchstagung) (CfP)
DESCRIPTION: 23.-24.3.2023\, Wien (Frist für Einreichungen: 12.9.2022) Tagu
 ng Internationales Privatrecht | Sigmund Freud PrivatUniversität (sfu.ac.at
 )  
X-ALT-DESC;FMTTYPE=text/html: <p>23.-24.3.2023\, Wien (Frist für Einreichun
 gen: 12.9.2022)</p><p><a href="https://jus.sfu.ac.at/de/forschung-fakultaet
 -fuer-rechtswissenschaften/tagung-internationales-privatrecht/">Tagung Inte
 rnationales Privatrecht | Sigmund Freud PrivatUniversität (sfu.ac.at)</a></
 p><p> </p><p>[av_button label='iCal-Export' link='./feed/eo-events' link_ta
 rget='' size='small' position='center' label_display='' title_attr='' icon_
 select='yes' icon='ue85b' font='entypo-fontello' color='custom' custom_bg='
 #b5123e' custom_font='#ffffff' av_uid='' id='' custom_class='' admin_previe
 w_bg='']</p>
CATEGORIES:Zivilrecht
LOCATION:Ausland
GEO:0.000000;0.000000
ORGANIZER;CN="ViFa-Recht":MAILTO:vifa-recht@sbb.spk-berlin.de
URL;VALUE=URI:https://events.intrecht.de/termine/termin/die-achtung-des-fre
 mden-leerformel-oder-leitprinzip-im-internationalen-privatrecht-4-ipr-nachw
 uchstagung-cfp/
END:VEVENT
BEGIN:VTIMEZONE
TZID:Europe/Berlin
BEGIN:DAYLIGHT
TZOFFSETFROM:+0100
TZOFFSETTO:+0200
DTSTART:20220327T010000
TZNAME:CEST
END:DAYLIGHT
END:VTIMEZONE
END:VCALENDAR
