BEGIN:VCALENDAR
VERSION:2.0
PRODID:-//Events | FID-Recht//NONSGML Events//EN
CALSCALE:GREGORIAN
X-ORIGINAL-URL:https://events.intrecht.de/termine/
X-WR-CALDESC:Events | FID-Recht - Events
BEGIN:VEVENT
UID:20200603T1418Z-1591193923.3362-EO-587-1@172.16.200.141
STATUS:CONFIRMED
DTSTAMP:20260425T151019Z
CREATED:20230424T123527Z
LAST-MODIFIED:20230925T162923Z
DTSTART;VALUE=DATE:20231123
DTEND;VALUE=DATE:20231125
SUMMARY: DGRI-Jahrestagung 2023: KI\, Nachhaltigkit\, Sicherheit\, Resilien
 z
DESCRIPTION: 23.-24.11.2023 / Hamburg https://www.dgri.de/13n470
X-ALT-DESC;FMTTYPE=text/html: <p>23.-24.11.2023 / Hamburg</p><p><a href="ht
 tps://www.dgri.de/13n470">https://www.dgri.de/13n470</a></p><p>[av_button l
 abel='iCal-Export' link='./feed/eo-events' link_target='' size='small' posi
 tion='center' label_display='' title_attr='' icon_select='yes' icon='ue85b'
  font='entypo-fontello' color='custom' custom_bg='#b5123e' custom_font='#ff
 ffff' av_uid='' id='' custom_class='' admin_preview_bg='']</p>
CATEGORIES:Recht interdisziplinär
LOCATION:Inland
GEO:0.000000;0.000000
ORGANIZER;CN="ViFa-Recht":MAILTO:vifa-recht@sbb.spk-berlin.de
URL;VALUE=URI:https://events.intrecht.de/termine/termin/dgri-jahrestagung-2
 023-ki-nachhaltigkit-sicherheit-resilienz/
END:VEVENT
BEGIN:VTIMEZONE
TZID:Europe/Berlin
BEGIN:STANDARD
TZOFFSETFROM:+0200
TZOFFSETTO:+0100
DTSTART:20231029T010000
TZNAME:CET
END:STANDARD
END:VTIMEZONE
END:VCALENDAR
