BEGIN:VCALENDAR
VERSION:2.0
PRODID:-//Events | FID-Recht//NONSGML Events//EN
CALSCALE:GREGORIAN
X-ORIGINAL-URL:https://events.intrecht.de/termine/
X-WR-CALDESC:Events | FID-Recht - Events
BEGIN:VEVENT
UID:20230418T1258Z-1681822708.9591-EO-8114-1@172.16.200.151
STATUS:CONFIRMED
DTSTAMP:20260425T220226Z
CREATED:20230123T121943Z
LAST-MODIFIED:20230123T121943Z
DTSTART;VALUE=DATE:20230127
DTEND;VALUE=DATE:20230128
SUMMARY: Deutschland in den Vereinten Nationen – Mit vereinten Kräften für 
 Frieden und Entwicklung (Vortrag)
DESCRIPTION: 27.1.2023 / Würzburg https://dgvn.de/aktivitaeten/einzelansich
 t/deutschland-in-den-vereinten-nationen-mit-vereinten-kraeften-fuer-frieden
 -und-entwicklung  
X-ALT-DESC;FMTTYPE=text/html: <p>27.1.2023 / Würzburg</p><p><a href="https:
 //dgvn.de/aktivitaeten/einzelansicht/deutschland-in-den-vereinten-nationen-
 mit-vereinten-kraeften-fuer-frieden-und-entwicklung">https://dgvn.de/aktivi
 taeten/einzelansicht/deutschland-in-den-vereinten-nationen-mit-vereinten-kr
 aeften-fuer-frieden-und-entwicklung</a></p><p> </p><p>[av_button label='iCa
 l-Export' link='./feed/eo-events' link_target='' size='small' position='cen
 ter' label_display='' title_attr='' icon_select='yes' icon='ue85b' font='en
 typo-fontello' color='custom' custom_bg='#b5123e' custom_font='#ffffff' av_
 uid='' id='' custom_class='' admin_preview_bg='']</p>
CATEGORIES:Europäisches / Internationales Recht
LOCATION:Inland
GEO:0.000000;0.000000
ORGANIZER;CN="ViFa-Recht":MAILTO:vifa-recht@sbb.spk-berlin.de
URL;VALUE=URI:https://events.intrecht.de/termine/termin/deutschland-in-den-
 vereinten-nationen-mit-vereinten-kraeften-fuer-frieden-und-entwicklung-vort
 rag/
END:VEVENT
BEGIN:VTIMEZONE
TZID:Europe/Berlin
BEGIN:STANDARD
TZOFFSETFROM:+0200
TZOFFSETTO:+0100
DTSTART:20221030T010000
TZNAME:CET
END:STANDARD
END:VTIMEZONE
END:VCALENDAR
