BEGIN:VCALENDAR
VERSION:2.0
PRODID:-//Events | FID-Recht//NONSGML Events//EN
CALSCALE:GREGORIAN
X-ORIGINAL-URL:https://events.intrecht.de/termine/
X-WR-CALDESC:Events | FID-Recht - Events
BEGIN:VEVENT
UID:20200603T1418Z-1591193923.3362-EO-587-1@172.16.200.141
STATUS:CONFIRMED
DTSTAMP:20260422T211646Z
CREATED:20250310T142137Z
LAST-MODIFIED:20250310T142137Z
DTSTART;VALUE=DATE:20250321
DTEND;VALUE=DATE:20250322
SUMMARY: Deutsch-Japanische Tagung zum Korruptionsstrafrecht (Hybrid Event)
DESCRIPTION: 21.3.2025 / Online und Augsburg https://www.uni-augsburg.de/de
 /fakultaet/jura/lehrende/kubiciel/#:~:text=Deutsch%2DJapanische%20Tagung%20
 zum%20Korruptionsstrafrecht&text=Freitag%2C%2021.03.2025%2C%20Juristische\,
 1012%20und%20online%20via%20Zoom.&text=Anmeldung%20per%20E%2DMail%20(%20sek
 retariat\,Die%20Teilnahme%20ist%20kostenfrei
X-ALT-DESC;FMTTYPE=text/html: <p>21.3.2025 / Online und Augsburg</p><p><a h
 ref="https://www.uni-augsburg.de/de/fakultaet/jura/lehrende/kubiciel/#:~:te
 xt=Deutsch%2DJapanische%20Tagung%20zum%20Korruptionsstrafrecht&text=Freitag
 %2C%2021.03.2025%2C%20Juristische\,1012%20und%20online%20via%20Zoom.&text=A
 nmeldung%20per%20E%2DMail%20(%20sekretariat\,Die%20Teilnahme%20ist%20kosten
 frei">https://www.uni-augsburg.de/de/fakultaet/jura/lehrende/kubiciel/#:~:t
 ext=Deutsch%2DJapanische%20Tagung%20zum%20Korruptionsstrafrecht&text=Freita
 g%2C%2021.03.2025%2C%20Juristische\,1012%20und%20online%20via%20Zoom.&text=
 Anmeldung%20per%20E%2DMail%20(%20sekretariat\,Die%20Teilnahme%20ist%20koste
 nfrei</a></p><p>[av_button label='iCal-Export' link='./feed/eo-events' link
 _target='' size='small' position='center' label_display='' title_attr='' ic
 on_select='yes' icon='ue85b' font='entypo-fontello' color='custom' custom_b
 g='#b5123e' custom_font='#ffffff' av_uid='' id='' custom_class='' admin_pre
 view_bg='']</p>
CATEGORIES:Strafrecht
LOCATION:Hybrid
GEO:0.000000;0.000000
ORGANIZER;CN="ViFa-Recht":MAILTO:vifa-recht@sbb.spk-berlin.de
URL;VALUE=URI:https://events.intrecht.de/termine/termin/deutsch-japanische-
 tagung-zum-korruptionsstrafrecht-hybrid-event/
END:VEVENT
BEGIN:VTIMEZONE
TZID:Europe/Berlin
BEGIN:STANDARD
TZOFFSETFROM:+0200
TZOFFSETTO:+0100
DTSTART:20241027T010000
TZNAME:CET
END:STANDARD
END:VTIMEZONE
END:VCALENDAR
