BEGIN:VCALENDAR
VERSION:2.0
PRODID:-//Events | FID-Recht//NONSGML Events//EN
CALSCALE:GREGORIAN
X-ORIGINAL-URL:https://events.intrecht.de/termine/
X-WR-CALDESC:Events | FID-Recht - Events
BEGIN:VEVENT
UID:20220320T0432Z-1647750742.8348-EO-6058-1@172.16.200.141
STATUS:CONFIRMED
DTSTAMP:20260422T073524Z
CREATED:20220318T142150Z
LAST-MODIFIED:20220318T142426Z
DTSTART;VALUE=DATE:20220401
DTEND;VALUE=DATE:20220402
SUMMARY: Determining the Appropriate Forum by the Applicable Law (with Rich
 ard Garnett) (Online-Vortrag)
DESCRIPTION: 1.4.2022\, Online (Anmeldefrist: 31.3.2022) CCTL Cross-Border 
 Legal Issues Dialogue Seminar Series – ‘Determining the Appropriate Forum b
 y the Applicable Law‘ by Prof. Richard Garnett (Online) – CUHK LAW – The Ch
 inese University of Hong Kong  
X-ALT-DESC;FMTTYPE=text/html: <p>1.4.2022\, Online (Anmeldefrist: 31.3.2022
 )</p><p><a href="https://www.law.cuhk.edu.hk/app/events/cctl-cross-border-l
 egal-issues-dialogue-seminar-series-determining-the-appropriate-forum-by-th
 e-applicable-law-by-prof-richard-garnett-online/">CCTL Cross-Border Legal I
 ssues Dialogue Seminar Series – ‘Determining the Appropriate Forum by the A
 pplicable Law' by Prof. Richard Garnett (Online) - CUHK LAW - The Chinese U
 niversity of Hong Kong</a></p><p> </p><p>[av_button label='iCal-Export' lin
 k='./feed/eo-events' link_target='' size='small' position='center' label_di
 splay='' title_attr='' icon_select='yes' icon='ue85b' font='entypo-fontello
 ' color='custom' custom_bg='#b5123e' custom_font='#ffffff' av_uid='' id='' 
 custom_class='' admin_preview_bg='']</p>
CATEGORIES:Europäisches / Internationales Recht,Zivilrecht
LOCATION:Online
GEO:0.000000;0.000000
ORGANIZER;CN="ViFa-Recht":MAILTO:vifa-recht@sbb.spk-berlin.de
URL;VALUE=URI:https://events.intrecht.de/termine/termin/determining-the-app
 ropriate-forum-by-the-applicable-law-with-richard-garnett-online-vortrag/
END:VEVENT
BEGIN:VTIMEZONE
TZID:Europe/Berlin
BEGIN:DAYLIGHT
TZOFFSETFROM:+0100
TZOFFSETTO:+0200
DTSTART:20220327T010000
TZNAME:CEST
END:DAYLIGHT
END:VTIMEZONE
END:VCALENDAR
