BEGIN:VCALENDAR
VERSION:2.0
PRODID:-//Events | FID-Recht//NONSGML Events//EN
CALSCALE:GREGORIAN
X-ORIGINAL-URL:https://events.intrecht.de/termine/
X-WR-CALDESC:Events | FID-Recht - Events
BEGIN:VEVENT
UID:20200603T1418Z-1591193923.3362-EO-587-1@172.16.200.141
STATUS:CONFIRMED
DTSTAMP:20260425T133945Z
CREATED:20230423T154232Z
LAST-MODIFIED:20230423T154232Z
DTSTART;VALUE=DATE:20230517
DTEND;VALUE=DATE:20230518
SUMMARY: Determinants of Penal Policy: The Influence of Frontier Values and
  Race Relations on American Criminal Justice (Vortrag)
DESCRIPTION: 17.5.2023 / Freiburg https://csl.mpg.de/events/34344/3123
X-ALT-DESC;FMTTYPE=text/html: <p>17.5.2023 / Freiburg</p><p><a href="https:
 //csl.mpg.de/events/34344/3123">https://csl.mpg.de/events/34344/3123</a></p
 ><p>[av_button label='iCal-Export' link='./feed/eo-events' link_target='' s
 ize='small' position='center' label_display='' title_attr='' icon_select='y
 es' icon='ue85b' font='entypo-fontello' color='custom' custom_bg='#b5123e' 
 custom_font='#ffffff' av_uid='' id='' custom_class='' admin_preview_bg='']<
 /p>
CATEGORIES:Strafrecht
LOCATION:Inland
GEO:0.000000;0.000000
ORGANIZER;CN="ViFa-Recht":MAILTO:vifa-recht@sbb.spk-berlin.de
URL;VALUE=URI:https://events.intrecht.de/termine/termin/determinants-of-pen
 al-policy-the-influence-of-frontier-values-and-race-relations-on-american-c
 riminal-justice-vortrag/
END:VEVENT
BEGIN:VTIMEZONE
TZID:Europe/Berlin
BEGIN:DAYLIGHT
TZOFFSETFROM:+0100
TZOFFSETTO:+0200
DTSTART:20230326T010000
TZNAME:CEST
END:DAYLIGHT
END:VTIMEZONE
END:VCALENDAR
