BEGIN:VCALENDAR
VERSION:2.0
PRODID:-//Events | FID-Recht//NONSGML Events//EN
CALSCALE:GREGORIAN
X-ORIGINAL-URL:https://events.intrecht.de/termine/
X-WR-CALDESC:Events | FID-Recht - Events
BEGIN:VEVENT
UID:20220118T1733Z-1642527223.1106-EO-5009-1@172.16.200.141
STATUS:CONFIRMED
DTSTAMP:20260422T160520Z
CREATED:20220310T093325Z
LAST-MODIFIED:20220310T093325Z
DTSTART;VALUE=DATE:20220331
DTEND;VALUE=DATE:20220401
SUMMARY: Derechos Ambientales y Territorio en América Latina (Online-Diskus
 sion)
DESCRIPTION: 31.3.2022\, Online Derechos Ambientales y Territorio en Améric
 a Latina  
X-ALT-DESC;FMTTYPE=text/html: <p>31.3.2022\, Online</p><p><a href="https://
 cedia.zoom.us/webinar/register/WN_5i1L34FdSBeQdU2kyPh49A">Derechos Ambienta
 les y Territorio en América Latina</a></p><p> </p><p>[av_button label='iCal
 -Export' link='./feed/eo-events' link_target='' size='small' position='cent
 er' label_display='' title_attr='' icon_select='yes' icon='ue85b' font='ent
 ypo-fontello' color='custom' custom_bg='#b5123e' custom_font='#ffffff' av_u
 id='' id='' custom_class='' admin_preview_bg='']</p>
CATEGORIES:Öffentliches Recht,Strafrecht
LOCATION:Online
GEO:0.000000;0.000000
ORGANIZER;CN="ViFa-Recht":MAILTO:vifa-recht@sbb.spk-berlin.de
URL;VALUE=URI:https://events.intrecht.de/termine/termin/derechos-ambientale
 s-y-territorio-en-america-latina-online-diskussion/
END:VEVENT
BEGIN:VTIMEZONE
TZID:Europe/Berlin
BEGIN:DAYLIGHT
TZOFFSETFROM:+0100
TZOFFSETTO:+0200
DTSTART:20220327T010000
TZNAME:CEST
END:DAYLIGHT
END:VTIMEZONE
END:VCALENDAR
