BEGIN:VCALENDAR
VERSION:2.0
PRODID:-//Events | FID-Recht//NONSGML Events//EN
CALSCALE:GREGORIAN
X-ORIGINAL-URL:https://events.intrecht.de/termine/
X-WR-CALDESC:Events | FID-Recht - Events
BEGIN:VEVENT
UID:20200603T1418Z-1591193923.3362-EO-587-1@172.16.200.141
STATUS:CONFIRMED
DTSTAMP:20260425T145839Z
CREATED:20231021T151810Z
LAST-MODIFIED:20231021T151810Z
DTSTART;VALUE=DATE:20231107
DTEND;VALUE=DATE:20231108
SUMMARY: Der Vorschlag zur Schaffung eines europäischen Elternschaftszertif
 ikats (Virtueller Workshop / „Aktuelle Forschung im Internationalen Privatr
 echt“)
DESCRIPTION: 7.11.2023 / Online https://events.mpipriv.de/IPR-Workshop_Prof
 _Dr_Christine_Budzikiewicz-07-11-23
X-ALT-DESC;FMTTYPE=text/html: <p>7.11.2023 / Online</p><p><a href="https://
 events.mpipriv.de/IPR-Workshop_Prof_Dr_Christine_Budzikiewicz-07-11-23">htt
 ps://events.mpipriv.de/IPR-Workshop_Prof_Dr_Christine_Budzikiewicz-07-11-23
 </a></p><p>[av_button label='iCal-Export' link='./feed/eo-events' link_targ
 et='' size='small' position='center' label_display='' title_attr='' icon_se
 lect='yes' icon='ue85b' font='entypo-fontello' color='custom' custom_bg='#b
 5123e' custom_font='#ffffff' av_uid='' id='' custom_class='' admin_preview_
 bg='']</p>
CATEGORIES:Zivilrecht
LOCATION:Online
GEO:0.000000;0.000000
ORGANIZER;CN="ViFa-Recht":MAILTO:vifa-recht@sbb.spk-berlin.de
URL;VALUE=URI:https://events.intrecht.de/termine/termin/der-vorschlag-zur-s
 chaffung-eines-europaeischen-elternschaftszertifikats-virtueller-workshop-a
 ktuelle-forschung-im-internationalen-privatrecht/
END:VEVENT
BEGIN:VTIMEZONE
TZID:Europe/Berlin
BEGIN:STANDARD
TZOFFSETFROM:+0200
TZOFFSETTO:+0100
DTSTART:20231029T010000
TZNAME:CET
END:STANDARD
END:VTIMEZONE
END:VCALENDAR
