BEGIN:VCALENDAR
VERSION:2.0
PRODID:-//Events | FID-Recht//NONSGML Events//EN
CALSCALE:GREGORIAN
X-ORIGINAL-URL:https://events.intrecht.de/termine/
X-WR-CALDESC:Events | FID-Recht - Events
BEGIN:VEVENT
UID:20221101T0030Z-1667262648.4295-EO-6855-1@172.16.200.151
STATUS:CONFIRMED
DTSTAMP:20260421T102834Z
CREATED:20221031T134324Z
LAST-MODIFIED:20221031T134324Z
DTSTART;VALUE=DATE:20221115
DTEND;VALUE=DATE:20221116
SUMMARY: Der Ukraine-Konflikt als Herausforderung an das Völkerrecht\, das 
 Verfassungsrecht und das Verwaltungsrecht (Diskussion)
DESCRIPTION: 15.11.2022 / Online und Bochum https://voelkerrechtsblog.org/e
 vents/der-ukraine-konflikt-als-herausforderung-an-das-voelkerrecht-das-verf
 assungsrecht-und-das-verwaltungsrecht/  
X-ALT-DESC;FMTTYPE=text/html: <p>15.11.2022 / Online und Bochum</p><p><a hr
 ef="https://voelkerrechtsblog.org/events/der-ukraine-konflikt-als-herausfor
 derung-an-das-voelkerrecht-das-verfassungsrecht-und-das-verwaltungsrecht/">
 https://voelkerrechtsblog.org/events/der-ukraine-konflikt-als-herausforderu
 ng-an-das-voelkerrecht-das-verfassungsrecht-und-das-verwaltungsrecht/</a></
 p><p> </p><p>[av_button label='iCal-Export' link='./feed/eo-events' link_ta
 rget='' size='small' position='center' label_display='' title_attr='' icon_
 select='yes' icon='ue85b' font='entypo-fontello' color='custom' custom_bg='
 #b5123e' custom_font='#ffffff' av_uid='' id='' custom_class='' admin_previe
 w_bg='']</p>
CATEGORIES:Öffentliches Recht
LOCATION:Online
GEO:0.000000;0.000000
ORGANIZER;CN="ViFa-Recht":MAILTO:vifa-recht@sbb.spk-berlin.de
URL;VALUE=URI:https://events.intrecht.de/termine/termin/der-ukraine-konflik
 t-als-herausforderung-an-das-voelkerrecht-das-verfassungsrecht-und-das-verw
 altungsrecht-diskussion/
END:VEVENT
BEGIN:VTIMEZONE
TZID:Europe/Berlin
BEGIN:STANDARD
TZOFFSETFROM:+0200
TZOFFSETTO:+0100
DTSTART:20221030T010000
TZNAME:CET
END:STANDARD
END:VTIMEZONE
END:VCALENDAR
